BEGIN:VCALENDAR
VERSION:2.0
PRODID:-//wp-events-plugin.com//7.2.3.1//EN
TZID:Europe/Paris
X-WR-TIMEZONE:Europe/Paris
BEGIN:VEVENT
UID:615@egliseverte.org
DTSTART;TZID=Europe/Paris:20251130T160000
DTEND;TZID=Europe/Paris:20251130T180000
DTSTAMP:20251112T105819Z
URL:https://www.egliseverte.org/agenda/10-ans-de-laudato-si-conference-de-
 jacqueline-de-bourgoing/
SUMMARY:10 ans de Laudato Si' : conférence de Jacqueline de Bourgoing
DESCRIPTION:Deuxième partie : conférence Laudato Si' 10 après quel bilan
  ?
ATTACH;FMTTYPE=image/jpeg:https://www.egliseverte.org/wp-content/uploads/2
 025/11/affiche_Laudato_Si_novembre2025.jpg
LOCATION:paroisse protestante de Bourg-la-Reine\, salle paroissiale\, 26 ru
 e Ravon\, Bourg-la-Reine\, 92340\, France
GEO:48.778903;2.319925
X-APPLE-STRUCTURED-LOCATION;VALUE=URI;X-ADDRESS=26 rue Ravon\, Bourg-la-Rei
 ne\, 92340\, France;X-APPLE-RADIUS=100;X-TITLE=paroisse protestante de Bou
 rg-la-Reine\, salle paroissiale:geo:48.778903,2.319925
END:VEVENT
BEGIN:VTIMEZONE
TZID:Europe/Paris
X-LIC-LOCATION:Europe/Paris
BEGIN:STANDARD
DTSTART:20251026T020000
TZOFFSETFROM:+0200
TZOFFSETTO:+0100
TZNAME:CET
END:STANDARD
END:VTIMEZONE
END:VCALENDAR