BEGIN:VCALENDAR
VERSION:2.0
PRODID:-//wp-events-plugin.com//7.2.3.1//EN
TZID:Europe/Paris
X-WR-TIMEZONE:Europe/Paris
BEGIN:VEVENT
UID:614@egliseverte.org
DTSTART;TZID=Europe/Paris:20251123T160000
DTEND;TZID=Europe/Paris:20251123T180000
DTSTAMP:20251112T105713Z
URL:https://www.egliseverte.org/agenda/10-ans-de-laudato-si-projection-du-
 film-la-lettre/
SUMMARY:10 ans de Laudato Si' : projection du film La Lettre
DESCRIPTION:Premier évènement d'une série de deux. Voir l'affiche jointe
 .
ATTACH;FMTTYPE=image/jpeg:https://www.egliseverte.org/wp-content/uploads/2
 025/11/affiche_Laudato_Si_novembre2025.jpg
LOCATION:paroisse Saint-Gilles salle Charles Péguy\, boulevard Carnot\, Bo
 urg-la-Reine\, 92340\, France
GEO:48.778397;2.319457
X-APPLE-STRUCTURED-LOCATION;VALUE=URI;X-ADDRESS=boulevard Carnot\, Bourg-la
 -Reine\, 92340\, France;X-APPLE-RADIUS=100;X-TITLE=paroisse Saint-Gilles s
 alle Charles Péguy:geo:48.778397,2.319457
END:VEVENT
BEGIN:VTIMEZONE
TZID:Europe/Paris
X-LIC-LOCATION:Europe/Paris
BEGIN:STANDARD
DTSTART:20251026T020000
TZOFFSETFROM:+0200
TZOFFSETTO:+0100
TZNAME:CET
END:STANDARD
END:VTIMEZONE
END:VCALENDAR