BEGIN:VCALENDAR
VERSION:2.0
PRODID:-//wp-events-plugin.com//7.2.3.1//EN
TZID:Europe/Paris
X-WR-TIMEZONE:Europe/Paris
BEGIN:VEVENT
UID:620@egliseverte.org
DTSTART;TZID=Europe/Paris:20260124T090000
DTEND;TZID=Europe/Paris:20260124T170000
DTSTAMP:20251128T085646Z
URL:https://www.egliseverte.org/agenda/3e-rencontre-des-communautes-eglise
 -verte-45/
SUMMARY:3e rencontre des communautés Église verte 45
DESCRIPTION:Une journée sur le thème "Vivre l’espérance au temps des c
 rises écologiques et sociales"\nPour les paroisses\, les communautés Ég
 lise Verte et tous ceux qui veulent agir pour la création.\nPour le progr
 amme\, cf le site web: https://orleans.epudf.org/groupe-eglise-verte/
ATTACH;FMTTYPE=image/jpeg:https://www.egliseverte.org/wp-content/uploads/2
 025/11/0.jpg
LOCATION:Temple de l'EPUdF Orléans\, 2 Cloître Saint-Pierre Empont\, Orl
 éans\, 45000\, France
GEO:47.900239;1.908783
X-APPLE-STRUCTURED-LOCATION;VALUE=URI;X-ADDRESS=2 Cloître Saint-Pierre Emp
 ont\, Orléans\, 45000\, France;X-APPLE-RADIUS=100;X-TITLE=Temple de l'EPU
 dF Orléans:geo:47.900239,1.908783
END:VEVENT
BEGIN:VTIMEZONE
TZID:Europe/Paris
X-LIC-LOCATION:Europe/Paris
BEGIN:STANDARD
DTSTART:20251026T020000
TZOFFSETFROM:+0200
TZOFFSETTO:+0100
TZNAME:CET
END:STANDARD
END:VTIMEZONE
END:VCALENDAR