BEGIN:VCALENDAR
VERSION:2.0
PRODID:-//wp-events-plugin.com//7.2.3.1//EN
TZID:Europe/Paris
X-WR-TIMEZONE:Europe/Paris
BEGIN:VEVENT
UID:629@egliseverte.org
DTSTART;TZID=Europe/Paris:20260201T100000
DTEND;TZID=Europe/Paris:20260201T160000
DTSTAMP:20260115T164630Z
URL:https://www.egliseverte.org/agenda/albert-schweitzer-pionnier-de-lecol
 ogie/
SUMMARY:Albert Schweitzer\, pionnier de l'écologie
DESCRIPTION:Programme de la journée :\n\nCulte le matin\, repas partagé 
 à midi (chacun-e amenant des plats\, mis en commun)\, après-midi avec co
 nférence\, partages et discussions.\n\nDébut à 10h\, fin à 16h\, mais 
 vous pouvez bien sûr aussi venir pour la demi journée\, le matin ou l'ap
 rès-midi.
ATTACH;FMTTYPE=image/jpeg:https://www.egliseverte.org/wp-content/uploads/2
 026/01/Affiche-journee-EV-3.png
LOCATION:Eglise Evangélique Méthodiste\, 3 rue de la Passotte\, Metz - La
  Grange aux Bois\, 57\, 57070\, France
GEO:49.092772;6.239642
X-APPLE-STRUCTURED-LOCATION;VALUE=URI;X-ADDRESS=3 rue de la Passotte\, Metz
  - La Grange aux Bois\, 57\, 57070\, France;X-APPLE-RADIUS=100;X-TITLE=Egl
 ise Evangélique Méthodiste:geo:49.092772,6.239642
END:VEVENT
BEGIN:VTIMEZONE
TZID:Europe/Paris
X-LIC-LOCATION:Europe/Paris
BEGIN:STANDARD
DTSTART:20251026T020000
TZOFFSETFROM:+0200
TZOFFSETTO:+0100
TZNAME:CET
END:STANDARD
END:VTIMEZONE
END:VCALENDAR