BEGIN:VCALENDAR
VERSION:2.0
PRODID:-//wp-events-plugin.com//7.2.3.1//EN
TZID:Europe/Paris
X-WR-TIMEZONE:Europe/Paris
BEGIN:VEVENT
UID:627@egliseverte.org
DTSTART;TZID=Europe/Paris:20260111T160000
DTEND;TZID=Europe/Paris:20260111T173000
DTSTAMP:20251219T104623Z
URL:https://www.egliseverte.org/agenda/alimentation-sante-et-environnement
 /
SUMMARY:Alimentation\, Santé et Environnement
DESCRIPTION:Alimentation\, Santé et Environnement. Après les fêtes\, Ég
 lise Verte Espérance vous invite à prendre le temps de découvrir les fo
 ndamentaux de l'équilibre alimentaire et de ses bienfaits pour votre sant
 é\, pour votre énergie et pour la planète. Le dimanche 11 janvier de 16
 h à 17h30\, Marion Flizot\, paroissienne\, pharmacienne\, avec 23 ans d
 ’expérience en conseil en nutrition\, phytothérapie et aromathérapie\
 , animera une conférence suivie d'un temps d'échange. Venez nombreux !\n
 \nEntrée libre dans la limite des places disponibles
ATTACH;FMTTYPE=image/jpeg:https://www.egliseverte.org/wp-content/uploads/2
 025/12/Capture-decran-2025-12-19-110144.jpg
LOCATION:Notre Dame d'Espérance\, 47 rue de la roquette\, PARIS\, 75011\, 
 France
GEO:48.855698;2.37449
X-APPLE-STRUCTURED-LOCATION;VALUE=URI;X-ADDRESS=47 rue de la roquette\, PAR
 IS\, 75011\, France;X-APPLE-RADIUS=100;X-TITLE=Notre Dame d'Espérance:geo
 :48.855698,2.37449
END:VEVENT
BEGIN:VTIMEZONE
TZID:Europe/Paris
X-LIC-LOCATION:Europe/Paris
BEGIN:STANDARD
DTSTART:20251026T020000
TZOFFSETFROM:+0200
TZOFFSETTO:+0100
TZNAME:CET
END:STANDARD
END:VTIMEZONE
END:VCALENDAR