BEGIN:VCALENDAR
VERSION:2.0
PRODID:-//wp-events-plugin.com//7.2.3.1//EN
TZID:Europe/Paris
X-WR-TIMEZONE:Europe/Paris
BEGIN:VEVENT
UID:488@egliseverte.org
DTSTART;TZID=Europe/Paris:20250524T091500
DTEND;TZID=Europe/Paris:20250524T171500
DTSTAMP:20250513T122815Z
URL:https://www.egliseverte.org/agenda/animaux-et-spiritualite-chretienne/
SUMMARY:Animaux et spiritualité chrétienne
DESCRIPTION:Une sixième journée d'études est consacrée au thème : Anim
 aux et spiritualité chrétienne\n\nElle aura lieu :\n\nSamedi 24 mai 2025
  - De 9h30 h à 17h30\nFacultés Loyola Paris (Ex Centre Sèvres)\, en pr
 ésentiel et distanciel\, au choix à l’inscription. (replay disponible 
 pendant 10 jours)\n\n35bis\, rue de Sèvres - 75006 Paris\nTél. : 01 44 3
 9 75 00\n\nVous trouverez ici le lien pour s’inscrire (en présentiel co
 mme en visio) :\n\nhttps://www.loyolaparis.fr/agenda/leglise-et-les-animau
 x-6-animaux-et-spiritualite-chretienne/\n\nJournée organisée en collabor
 ation avec la Fraternité pour le Respect Animal\n\nComme l’avait bien p
 erçu François d’Assise\, la relation aux animaux est le lieu d’une e
 xpérience spirituelle authentique\, de compagnonnage avec des créatures 
 de Dieu très différentes de nous.\n\nAujourd’hui beaucoup d’études 
 en éthologie et psychologie comparée se focalisent sur l’expérience d
 u deuil au sein de groupes d’animaux. Par ailleurs\, le besoin d’accom
 pagner la perte d’un animal et des questions sur le sens et l’au-delà
  qui en résultent se fait pressant. En outre\, un nouveau type d’accomp
 agnement émerge sous le vocable « animal chaplaincy » (aumônerie anima
 le).\n\nLoin de se limiter au deuil\, l’expérience spirituelle vécue p
 ar des humains dans la relation aux animaux est une invitation à en déco
 uvrir et déployer son sens théologique.\n\nCette journée interdisciplin
 aire explorera la spiritualité chrétienne de la relation aux animaux\, e
 n donnant la parole à des chrétiens ayant des relations proches avec des
  animaux\, des vétérinaires\, des éthologues\, des philosophes\, des ex
 égètes et des théologiens. Elle est la suite de la Journée du 1er juin
  2024\, « Pour une relation homme-animal ajustée : le cas de la média
 tion animale ».\n\nN.B. La journée initialement prévue sur « Éthiqu
 e chrétienne et systèmes alimentaires » est reportée en 2027. Prochain
  rdv : samedi 30 mai 2026\, sur le thème « Cohabiter avec les animaux »
 .
ATTACH;FMTTYPE=image/jpeg:https://www.egliseverte.org/wp-content/uploads/2
 025/05/page4.jpg
LOCATION:Facultés Loyola Paris\, 35 bis rue de Sèvres\, Paris\, 75006\, F
 rance
X-APPLE-STRUCTURED-LOCATION;VALUE=URI;X-ADDRESS=35 bis rue de Sèvres\, Par
 is\, 75006\, France;X-APPLE-RADIUS=100;X-TITLE=Facultés Loyola Paris:geo:
 0,0
END:VEVENT
BEGIN:VTIMEZONE
TZID:Europe/Paris
X-LIC-LOCATION:Europe/Paris
BEGIN:DAYLIGHT
DTSTART:20250330T030000
TZOFFSETFROM:+0100
TZOFFSETTO:+0200
TZNAME:CEST
END:DAYLIGHT
END:VTIMEZONE
END:VCALENDAR