BEGIN:VCALENDAR
VERSION:2.0
PRODID:-//wp-events-plugin.com//7.2.3.1//EN
TZID:Europe/Paris
X-WR-TIMEZONE:Europe/Paris
BEGIN:VEVENT
UID:443@egliseverte.org
DTSTART;TZID=Europe/Paris:20250412T000000
DTEND;TZID=Europe/Paris:20250412T000000
DTSTAMP:20250116T083706Z
URL:https://www.egliseverte.org/agenda/atelier-du-lien-le-travail-qui-reli
 e-94/
SUMMARY:Atelier du lien : le travail qui relie (94)
DESCRIPTION:Comment renforcer nos racines pour nous soutenir nous-mêmes\, 
 les autres et la Terre ? En nous révélant une nouvelle vision du monde\,
  comme d’un immense corps vivant dont nous faisons partie\, cette approc
 he nous redonne le goût et le sens de la communauté\, pour participer de
  manière plus inspirée et engagée en faveur d’une société qui souti
 enne la vie.\n\nhttps://catholiques-val-de-marne.cef.fr/ecologie-integrale
 -2/sur-le-terrain/325970-les-ateliers-du-lien/
LOCATION:Evêché de Créteil\, 2 rue pasteur valery radot\, creteil\, 9400
 0\, France
X-APPLE-STRUCTURED-LOCATION;VALUE=URI;X-ADDRESS=2 rue pasteur valery radot\
 , creteil\, 94000\, France;X-APPLE-RADIUS=100;X-TITLE=Evêché de Créteil
 :geo:0,0
END:VEVENT
BEGIN:VTIMEZONE
TZID:Europe/Paris
X-LIC-LOCATION:Europe/Paris
BEGIN:DAYLIGHT
DTSTART:20250330T030000
TZOFFSETFROM:+0100
TZOFFSETTO:+0200
TZNAME:CEST
END:DAYLIGHT
END:VTIMEZONE
END:VCALENDAR