BEGIN:VCALENDAR
VERSION:2.0
PRODID:-//wp-events-plugin.com//7.2.3.1//EN
TZID:Europe/Paris
X-WR-TIMEZONE:Europe/Paris
BEGIN:VEVENT
UID:358@egliseverte.org
DTSTART;TZID=Europe/Paris:20241217T193000
DTEND;TZID=Europe/Paris:20241217T213000
DTSTAMP:20240627T085653Z
URL:https://www.egliseverte.org/agenda/atelier-ethique-des-mobilisations-c
 itoyennes-et-de-laction-non-violente-2024-12-17/
SUMMARY:Atelier "Éthique des mobilisations citoyennes et de l'action non-v
 iolente"
DESCRIPTION:L’acuité des crises socio-écologiques fait surgir des forme
 s d’engagements radicaux. Pour le pape François\, ces actions comblent 
 « un vide de la société civile » (Laudate Deum 58). Elles confrontent 
 cependant souvent leurs auteurs à l’impuissance\, les interrogeant sur 
 la nécessité du passage à la violence. Comment tenir dans un engagement
  militant\, cherchant à transformer les structures\, et non-violent ? À 
 partir d’une histoire de la non-violence\, et de l’étude de cas concr
 ets\, ce cours-atelier cherchera à définir une stratégie et une éthiqu
 e de l’action non-violente\, dans une perspective chrétienne.\n\nhttps:
 //www.loyolaparis.fr/agenda/ethique-de-laction-non-violente/
ATTACH;FMTTYPE=image/jpeg:https://www.egliseverte.org/wp-content/uploads/2
 024/06/justice-climat-Flickr.jpg
LOCATION:Facultés Loyola Paris\, 35 bis rue de Sèvres\, Paris\, 75006\, F
 rance
X-APPLE-STRUCTURED-LOCATION;VALUE=URI;X-ADDRESS=35 bis rue de Sèvres\, Par
 is\, 75006\, France;X-APPLE-RADIUS=100;X-TITLE=Facultés Loyola Paris:geo:
 0,0
END:VEVENT
BEGIN:VTIMEZONE
TZID:Europe/Paris
X-LIC-LOCATION:Europe/Paris
BEGIN:STANDARD
DTSTART:20241027T020000
TZOFFSETFROM:+0200
TZOFFSETTO:+0100
TZNAME:CET
END:STANDARD
END:VTIMEZONE
END:VCALENDAR