BEGIN:VCALENDAR
VERSION:2.0
PRODID:-//wp-events-plugin.com//7.2.3.1//EN
TZID:Europe/Paris
X-WR-TIMEZONE:Europe/Paris
BEGIN:VEVENT
UID:442@egliseverte.org
DTSTART;TZID=Europe/Paris:20250322T133000
DTEND;TZID=Europe/Paris:20250322T180000
DTSTAMP:20250116T083616Z
URL:https://www.egliseverte.org/agenda/ateliers-du-lien-la-place-de-lecolo
 gie-integrale-en-communaute-94/
SUMMARY:Ateliers du lien : la place de l'écologie intégrale en communaut
 é (94)
DESCRIPTION:En 2015\, le pape François introduisait dans Laudato Si' le co
 ncept d’écologie intégrale\, une invitation à regarder la Création d
 ans son ensemble au travers des liens qui unissent les humains entre eux e
 t avec le règne végétal et animal. Une invitation aussi à regarder not
 re société humaine de façon systémique pour comprendre les interaction
 s entre l’environnement\, le social\, l’économique. Tout est lié !\n
 Cet atelier propose de s’interroger sur la juste place de cette approche
  dans une communauté et de la posture de la personne ou l’équipe qui a
  le souci de cette conversion écologique.\nIntervenants : Olivier Stevens
 \, Claire de Pontevès
ATTACH;FMTTYPE=image/jpeg:https://www.egliseverte.org/wp-content/uploads/2
 025/01/logo-insta.jpg
LOCATION:Evêché de Créteil\, 2 rue pasteur vallery radot\, créteil\, 94
 000 \, France
X-APPLE-STRUCTURED-LOCATION;VALUE=URI;X-ADDRESS=2 rue pasteur vallery radot
 \, créteil\, 94000 \, France;X-APPLE-RADIUS=100;X-TITLE=Evêché de Crét
 eil:geo:0,0
END:VEVENT
BEGIN:VTIMEZONE
TZID:Europe/Paris
X-LIC-LOCATION:Europe/Paris
BEGIN:STANDARD
DTSTART:20241027T020000
TZOFFSETFROM:+0200
TZOFFSETTO:+0100
TZNAME:CET
END:STANDARD
END:VTIMEZONE
END:VCALENDAR