BEGIN:VCALENDAR
VERSION:2.0
PRODID:-//wp-events-plugin.com//7.2.3.1//EN
TZID:Europe/Paris
X-WR-TIMEZONE:Europe/Paris
BEGIN:VEVENT
UID:487@egliseverte.org
DTSTART;TZID=Europe/Paris:20250531T150000
DTEND;TZID=Europe/Paris:20250601T160000
DTSTAMP:20250513T123232Z
URL:https://www.egliseverte.org/agenda/balade-eco-spirituelle-et-culte-de-
 la-creation/
SUMMARY:Balade éco spirituelle et culte de la création
DESCRIPTION:L’équipe Église verte de la communauté protestante Vendée
  Ouest de la Roche sur Yon vous invite à deux temps forts pour célébrer
  la création.\n\nLe samedi 31 mai de 15h à 16 h :\nNous vous proposons u
 ne balade éco-spirituelle à la La Coulée Verte du Guyon à Venansault.\
 nDépart sur le parking devant l’îlot des arts (bibliothèque)\nPour to
 utes et tous\, de tout âge\, pas de dénivelé environ 3 km.\n\nLe dimanc
 he 1 juin à 10h30\, culte au temple\, 28 rue Chanzy\, à la Roche sur Yon
 \nVenez célébrer Dieu pour sa création et vivre en œcuménisme ce temp
 s de culte.\n\nRenseignements : marclise.laurent@ orange.fr ou 02 51 0
 6 14 66
ATTACH;FMTTYPE=image/jpeg:https://www.egliseverte.org/wp-content/uploads/2
 025/05/invit-31-mai-2025.jpg
LOCATION:Coulée verte\, Le Guyon\, Venansault\, Vendée\, 85000\, France
X-APPLE-STRUCTURED-LOCATION;VALUE=URI;X-ADDRESS=Le Guyon\, Venansault\, Ven
 dée\, 85000\, France;X-APPLE-RADIUS=100;X-TITLE=Coulée verte:geo:0,0
END:VEVENT
BEGIN:VTIMEZONE
TZID:Europe/Paris
X-LIC-LOCATION:Europe/Paris
BEGIN:DAYLIGHT
DTSTART:20250330T030000
TZOFFSETFROM:+0100
TZOFFSETTO:+0200
TZNAME:CEST
END:DAYLIGHT
END:VTIMEZONE
END:VCALENDAR