BEGIN:VCALENDAR
VERSION:2.0
PRODID:-//wp-events-plugin.com//7.2.3.1//EN
TZID:Europe/Paris
X-WR-TIMEZONE:Europe/Paris
BEGIN:VEVENT
UID:570@egliseverte.org
DTSTART;TZID=Europe/Paris:20250921T143000
DTEND;TZID=Europe/Paris:20250921T170000
DTSTAMP:20250916T153358Z
URL:https://www.egliseverte.org/agenda/balade-ecospirituelle/
SUMMARY:Balade écospirituelle
DESCRIPTION:Ce dimanche 21 septembre\, journée du Patrimoine\, la commissi
 on Laudato si du diocèse de Sées propose une balade écospirituelle « d
 e jardin en jardin » dans la ville de Sées. Nous partirons du parc de la
  résidence épiscopale situé au bord de l’Orne pour terminer dans le j
 ardin de la maison diocésaine qui abrite quelques curiosités botaniques
 … en passant par deux espaces verts de la ville. Notre lieu de départ a
 ccueillera l’exposition de Yann Artus-Bertrand sur l’encyclique « Lau
 dato si » et d’autres animations.\nNous terminerons l’après-midi par
  un verre de l’amitié\nManifestation annulée si grosses intempéries
ATTACH;FMTTYPE=image/jpeg:https://www.egliseverte.org/wp-content/uploads/2
 025/02/Balade-eco-spi-fiche.png
LOCATION:jardin de l'évêché. Sées\, Cours des fontaines\, Sées\, Orne\
 , 61500\, Normandie\, France
GEO:48.606249;0.166951
X-APPLE-STRUCTURED-LOCATION;VALUE=URI;X-ADDRESS=Cours des fontaines\, Sées
 \, Orne\, 61500\, Normandie\, France;X-APPLE-RADIUS=100;X-TITLE=jardin de 
 l'évêché. Sées:geo:48.606249,0.166951
END:VEVENT
BEGIN:VTIMEZONE
TZID:Europe/Paris
X-LIC-LOCATION:Europe/Paris
BEGIN:DAYLIGHT
DTSTART:20250330T030000
TZOFFSETFROM:+0100
TZOFFSETTO:+0200
TZNAME:CEST
END:DAYLIGHT
END:VTIMEZONE
END:VCALENDAR