BEGIN:VCALENDAR
VERSION:2.0
PRODID:-//wp-events-plugin.com//7.2.3.1//EN
TZID:Europe/Paris
X-WR-TIMEZONE:Europe/Paris
BEGIN:VEVENT
UID:389@egliseverte.org
DTSTART;TZID=Europe/Paris:20240929T100000
DTEND;TZID=Europe/Paris:20240929T120000
DTSTAMP:20240910T142649Z
URL:https://www.egliseverte.org/agenda/balade-meditative-oecumenique-85/
SUMMARY:Balade méditative œcuménique (85)
DESCRIPTION:Le groupe de la Paroisse du Sacré Cœur de la Roche sur Yon en
  Pays Yonnais organise une balade méditative le dimanche 29 septembre 202
 4 à Venansault. Une marche dans la nature pour prier\, regarder\, médite
 r et partager dans un lieu naturel.
ATTACH;FMTTYPE=image/jpeg:https://www.egliseverte.org/wp-content/uploads/2
 018/01/img72.jpg
LOCATION:Eglise\, Rue du Marechal de Lattre de Tassigny\, Venansault\, Vend
 ée\, 85190\, France
X-APPLE-STRUCTURED-LOCATION;VALUE=URI;X-ADDRESS=Rue du Marechal de Lattre d
 e Tassigny\, Venansault\, Vendée\, 85190\, France;X-APPLE-RADIUS=100;X-TI
 TLE=Eglise:geo:0,0
END:VEVENT
BEGIN:VTIMEZONE
TZID:Europe/Paris
X-LIC-LOCATION:Europe/Paris
BEGIN:DAYLIGHT
DTSTART:20240331T030000
TZOFFSETFROM:+0100
TZOFFSETTO:+0200
TZNAME:CEST
END:DAYLIGHT
END:VTIMEZONE
END:VCALENDAR