BEGIN:VCALENDAR
VERSION:2.0
PRODID:-//wp-events-plugin.com//7.2.3.1//EN
TZID:Europe/Paris
X-WR-TIMEZONE:Europe/Paris
BEGIN:VEVENT
UID:379@egliseverte.org
DTSTART;TZID=Europe/Paris:20240921T163000
DTEND;TZID=Europe/Paris:20240921T183000
DTSTAMP:20240924T150031Z
URL:https://www.egliseverte.org/agenda/benediction-et-decouverte-du-jardin
 -aromatique-du-sechoir-degustation-de-tisanes-58/
SUMMARY:Bénédiction et découverte du jardin aromatique\, du séchoir\, d
 égustation de tisanes (58)
DESCRIPTION:Dans le cadre du temps pour la création\, une Bénédiction et
  la découverte du jardin aromatique et de son séchoir vous sont proposé
 es\, avec dégustation de tisanes produites sur place\, le samedi 21 septe
 mbre à 16h30\, à l'espace Bernadette Soubirous de Nevers\, 34 rue St Gil
 dard 58 000 Nevers
ATTACH;FMTTYPE=image/jpeg:https://www.egliseverte.org/wp-content/uploads/2
 021/04/plant-3263600_1920.jpeg
LOCATION:jardin aromatique\, Parc de l'espace Bernadette\, 34 rue st gildar
 d\, nevers\, 18150\, France
X-APPLE-STRUCTURED-LOCATION;VALUE=URI;X-ADDRESS=34 rue st gildard\, nevers\
 , 18150\, France;X-APPLE-RADIUS=100;X-TITLE=jardin aromatique\, Parc de l'
 espace Bernadette:geo:0,0
END:VEVENT
BEGIN:VTIMEZONE
TZID:Europe/Paris
X-LIC-LOCATION:Europe/Paris
BEGIN:DAYLIGHT
DTSTART:20240331T030000
TZOFFSETFROM:+0100
TZOFFSETTO:+0200
TZNAME:CEST
END:DAYLIGHT
END:VTIMEZONE
END:VCALENDAR