BEGIN:VCALENDAR
VERSION:2.0
PRODID:-//wp-events-plugin.com//7.2.3.1//EN
TZID:Europe/Paris
X-WR-TIMEZONE:Europe/Paris
BEGIN:VEVENT
UID:560@egliseverte.org
DTSTART;TZID=Europe/Paris:20250913T160000
DTEND;TZID=Europe/Paris:20250913T170000
DTSTAMP:20250912T145308Z
URL:https://www.egliseverte.org/agenda/cafe-debat-crise-ecologique-quelles
 -priorites/
SUMMARY:CAFÉ DÉBAT : " Crise écologique : quelles priorités ?"
DESCRIPTION:Animé par une équipe de la paroisse Lyon-Terreaux\n\nhttps://
 www.templelanterne.fr/event/cafe-debat-crise-ecologique-quelles-priorites/
ATTACH;FMTTYPE=image/jpeg:https://www.egliseverte.org/wp-content/uploads/2
 025/06/FR-2025-SOC-scaled.png
LOCATION:Temple 10 rue lanterne -Lyon 69001\, 10 rue lanterne\, lyon\, 6900
 1\, France
GEO:45.76655;4.831446
X-APPLE-STRUCTURED-LOCATION;VALUE=URI;X-ADDRESS=10 rue lanterne\, lyon\, 69
 001\, France;X-APPLE-RADIUS=100;X-TITLE=Temple 10 rue lanterne -Lyon 69001
 :geo:45.76655,4.831446
END:VEVENT
BEGIN:VTIMEZONE
TZID:Europe/Paris
X-LIC-LOCATION:Europe/Paris
BEGIN:DAYLIGHT
DTSTART:20250330T030000
TZOFFSETFROM:+0100
TZOFFSETTO:+0200
TZNAME:CEST
END:DAYLIGHT
END:VTIMEZONE
END:VCALENDAR