BEGIN:VCALENDAR
VERSION:2.0
PRODID:-//wp-events-plugin.com//7.2.3.1//EN
TZID:Europe/Paris
X-WR-TIMEZONE:Europe/Paris
BEGIN:VEVENT
UID:263@egliseverte.org
DTSTART;TZID=Europe/Paris;VALUE=DATE:20230424
DTEND;TZID=Europe/Paris;VALUE=DATE:20230429
DTSTAMP:20231120T160757Z
URL:https://www.egliseverte.org/agenda/camp-english-naturally-langlais-en-
 pleine-nature-07/
SUMMARY:Camp English Naturally - l'anglais en pleine nature (07)
DESCRIPTION:Services Chrétiens\, Association à but non lucratif (loi 1901
 ) organise un camp d’immersion en anglais et dans la nature destiné aux
  enfants et adolescents de 8 à 17 ans\, de toute confession\, tout milieu
  socioculturel\, toutes régions de France et même d’Europe. Le projet 
 éducatif de ce camp cible l’épanouissement des jeunes au niveau de leu
 r vie personnelle\, sociale et spirituelle. Le projet encourage le jeune 
 à développer chaque aspect de sa vie en harmonie avec les autres et l’
 environnement qui l’entoure.\nLe thème de cette année\, nous emmène d
 ans une immersion dans la langue anglaise mais également dans la nature. 
 Apprendre une langue au contact de la nature permet d’être dans un envi
 ronnement calme et coupé du quotidien des jeunes.\nFil conducteur : déco
 uvrir l’anglais à travers la culture et les coutumes anglaises et amér
 icaines ainsi qu’en s’intéressant de plus près à l’environnement 
 qui nous entoure.\nAu travers d’activités ludiques\, sportives\, sensor
 ielles mais aussi des sketchs\, les jeunes seront amenés à s’exprimer 
 en anglais et à se connecter aux éléments naturels en découvrant et ob
 servant la Création.\n\nhttps://www.chapelledefuveau.fr/centre-bonnefoi-a
 ctivites-annuelles\n\nInscription par mail : centrebonnefoi@gmail.com
ATTACH;FMTTYPE=image/jpeg:https://www.egliseverte.org/wp-content/uploads/2
 023/03/Screenshot_20230307-151416.jpg
LOCATION:Centre Bonnefoi\, Quartier de la Chave\, Sainte-Eulalie\, 07510\, 
 France
GEO:44.830752;4.217354
X-APPLE-STRUCTURED-LOCATION;VALUE=URI;X-ADDRESS=Quartier de la Chave\, Sain
 te-Eulalie\, 07510\, France;X-APPLE-RADIUS=100;X-TITLE=Centre Bonnefoi:geo
 :44.830752,4.217354
END:VEVENT
BEGIN:VTIMEZONE
TZID:Europe/Paris
X-LIC-LOCATION:Europe/Paris
BEGIN:DAYLIGHT
DTSTART:20230326T030000
TZOFFSETFROM:+0100
TZOFFSETTO:+0200
TZNAME:CEST
END:DAYLIGHT
END:VTIMEZONE
END:VCALENDAR