BEGIN:VCALENDAR
VERSION:2.0
PRODID:-//wp-events-plugin.com//7.2.3.1//EN
TZID:Europe/Paris
X-WR-TIMEZONE:Europe/Paris
BEGIN:VEVENT
UID:662@egliseverte.org
DTSTART;TZID=Europe/Paris:20260619T170000
DTEND;TZID=Europe/Paris:20260621T173000
DTSTAMP:20260304T140556Z
URL:https://www.egliseverte.org/agenda/campus-laudato-si-77-2026-session-4
 -la-relation-au-createur/
SUMMARY:CAMPUS LAUDATO SI' 77 2026 - SESSION 4 - LA RELATION AU CREATEUR
DESCRIPTION:Le Campus Laudato Si 77 est un parcours-découverte qui constit
 ue un chemin de conversion progressif. Quatre sessions constituent les ét
 apes successives et complémentaires de ce cheminement. Chaque session ser
 a dédiée à une relation constitutive de la vie humaine en lien avec les
  encycliques Laudato Si’\, Fratelli Tutti\, Laudate Deum et Dilexit Nos.
 \nPour 2026\, nous sommes à mi-parcours et vous pouvez choisir la session
  3\, la session 4 ou les deux.\n\nSession 1 (terminée) – La relation à
  la Création : vendredi 30 janvier – dimanche 1er février (2 jours) à
  Avon\nSession 2 (terminée)– La relation à l’Autre : vendredi 20 –
  samedi 21 février (1 jour) à Avon\n\nSession 3 – La relation à Soi :
  vendredi 24 – samedi 25 avril (1 jour) à Jouarre : découverte de la 
 «mini-big forest»\, de la marche méditée et de l’approche Laudato Si
  des bénédictines.\n\nSession 4 – La relation au Créateur : vendredi 
 19 – dimanche 21 juin (2 jours) à Avon\, avec les interventions de Sr C
 écile Renouard du campus de la Transition\, de Dorothée de Kermadec-Cour
 son de l'Aubier et du P. Benoît Ferré du Céras. Vous y expérimenterez 
 le fleurissement spirituel\, les mandalas bibliques et l'Horizon décarbon
 é.\n\nLes sessions sont animées par des théologiens\, philosophes\, rel
 igieux\, témoins et acteurs de la transformation de l’Église et de la 
 société sur nos territoires. Au sein d’un groupe limité\, vous serez 
 invités à la prière\, l’expérimentation\, la réflexion pour suscite
 r et trouver à travers les questionnements actuels le sens et l’unité 
 de nos vies\, à la lumière de l’Évangile. Vous réfléchirez aux acti
 ons que vous pourrez mener personnellement ou communautairement.\n\nPour e
 n savoir plus et s'inscrire : https://www.centrespirituel-avon.org/actuali
 tes/1741/campus-laudato-si\n\nemail : laudatosi@catho77.fr
ATTACH;FMTTYPE=image/jpeg:https://www.egliseverte.org/wp-content/uploads/2
 026/03/Affiche-AVRIL-JUIN-Campus-Laudato-Si-2026_page-0001-1.jpg
LOCATION:Centre spirituel des Carmes d'Avon\, 1 rue Père Jacques\, AVON\, 
 Seine et Marne\, 77210\, Ile-de-France\, France
GEO:48.405364;2.72028
X-APPLE-STRUCTURED-LOCATION;VALUE=URI;X-ADDRESS=1 rue Père Jacques\, AVON\
 , Seine et Marne\, 77210\, Ile-de-France\, France;X-APPLE-RADIUS=100;X-TIT
 LE=Centre spirituel des Carmes d'Avon:geo:48.405364,2.72028
END:VEVENT
BEGIN:VTIMEZONE
TZID:Europe/Paris
X-LIC-LOCATION:Europe/Paris
BEGIN:DAYLIGHT
DTSTART:20260329T030000
TZOFFSETFROM:+0100
TZOFFSETTO:+0200
TZNAME:CEST
END:DAYLIGHT
END:VTIMEZONE
END:VCALENDAR