BEGIN:VCALENDAR
VERSION:2.0
PRODID:-//wp-events-plugin.com//7.2.3.1//EN
TZID:Europe/Paris
X-WR-TIMEZONE:Europe/Paris
BEGIN:VEVENT
UID:420@egliseverte.org
DTSTART;TZID=Europe/Paris;VALUE=DATE:20241122
DTEND;TZID=Europe/Paris;VALUE=DATE:20241124
DTSTAMP:20241022T142840Z
URL:https://www.egliseverte.org/agenda/campus-laudato-si-cycle-2024-2025-4
 eme-edition/
SUMMARY:Campus Laudato Si' - Cycle 2024-2025 - 4ème édition (26)
DESCRIPTION:« Se laisser transformer pour transformer le monde »\n\nC’e
 st un programme destiné à tous ceux et toutes celles qui désirent s’i
 nvestir dans la transition écologique en réponse à l’encyclique Lauda
 to Si et la Bible.\n\nLe Campus Laudato Si est une proposition du diocèse
  de Valence\, intégrée dans le service Diaconie et soin : clameur de la 
 terre et clameur des pauvres.\n\nIl s’agit de mettre en réseau les chr
 étiens de la Drôme mais aussi de faire des liens avec tous ceux qui sont
  engagés à protéger notre maison commune\, à répondre à leur niveau 
 à la crise socio-environnementale.\n\nLe campus est localisé à Allex\, 
 chez les spiritains qui ont décidé de faire de leur communauté un éco-
 lieu où l’écologie et la vie communautaire sont prépondérantes. http
 s://www.stjoseph-allex.org/\n\nIl s’agit de travailler sur 4 aspects de 
 nos vies : la relation à soi-même\, la relation aux autres\, la relation
  à la création et la relation au Créateur.\n\nLes animateurs du Campus\
 , vous proposent un cycle de 4 sessions réparti sur l’année avec des e
 nseignants-chercheurs\, philosophes\, psychologues\, professionnels\, tém
 oins… les journées de formation sont construites pour permettre une exp
 érience personnelle\, se laisser transformer pour expérimenter une autre
  façon de vivre.\n\nNotre évêque vous invite à participer :\n\nCher am
 i\,\n\nVous êtes peut-être surpris de recevoir un message de votre évê
 que ! En arrivant dans la Drôme\, j’ai découvert\, parmi d’autres be
 lles initiatives et propositions\, le Campus Laudato Si.\n\nPour répondre
  à l’interpellation du Pape François en 2015\, dans son encyclique Lau
 dato Si sur l’écologie intégrale\, un parcours de 4 rendez-vous annuel
 s est organisé dans le diocèse depuis plusieurs années : c’est le Cam
 pus Laudato Si.\n\nLieu de partage d’expériences et de réflexions\, d
 ’enseignement et de mise en réseau des chrétiens de la Drôme\, il per
 met d’approfondir\, dans un esprit fraternel et convivial\, les 4 relati
 ons fondamentales que sont : la relation aux autres\, à soi-même\, aux a
 utres êtres vivants\, à Dieu.\n\nQue vous soyez un ou une chrétienne en
 gagée(e) au service des autres\, dans l’environnement\, auprès des dé
 munis\, dans la diaconie\, dans l’éducation\, dans l’accompagnement o
 u que vous soyez sensibilisé à la clameur des pauvres et à la clameur d
 e la terre\, ce parcours vous est proposé pour avancer.\n\nJ’ai donc le
  plaisir de vous inviter à participer à un cycle complet du Campus Lauda
 to Si. J’aurais plaisir à vous y rencontrer.\n\nLes sessions ont lieu d
 ans le beau site qu’est l’accueil Saint-Joseph à Allex\, chez les fr
 ères Spiritains. Le coût d’une session est de 70€\, couvrant l’hé
 bergement\, la restauration et les frais des intervenants.\n\nVous trouvez
  ci-après (cliquez pour télécharger) : le programme et les intervenants
  du parcours 2024-2025.\n\nNous sommes à votre écoute pour toute précis
 ion ou question.\n\nVous pouvez vous inscrire auprès d’Augustin GUENDOU
 Z au 06 78 86 23 28 ou par mail : laudatosi@valence.cef.fr\n\nDans la joie
  d’être avec vous au service de l’annonce de l’Évangile dans notre
  belle terre de la Drôme. Bien fraternellement.\n\nVotre évêque\n\n+ Fr
 ançois Durand
ATTACH;FMTTYPE=image/jpeg:https://www.egliseverte.org/wp-content/uploads/2
 024/10/campus-laudato-si-19_compressed-1_page-0001-scaled.jpg
LOCATION:Campus Laudato Si - Maison St Joseph\, 4 Montée de la Butte  \, A
 LLEX\, Drôme\, 26400\, France
X-APPLE-STRUCTURED-LOCATION;VALUE=URI;X-ADDRESS=4 Montée de la Butte  \, A
 LLEX\, Drôme\, 26400\, France;X-APPLE-RADIUS=100;X-TITLE=Campus Laudato S
 i - Maison St Joseph:geo:0,0
END:VEVENT
BEGIN:VTIMEZONE
TZID:Europe/Paris
X-LIC-LOCATION:Europe/Paris
BEGIN:STANDARD
DTSTART:20241027T020000
TZOFFSETFROM:+0200
TZOFFSETTO:+0100
TZNAME:CET
END:STANDARD
END:VTIMEZONE
END:VCALENDAR