BEGIN:VCALENDAR
VERSION:2.0
PRODID:-//wp-events-plugin.com//7.2.3.1//EN
TZID:Europe/Paris
X-WR-TIMEZONE:Europe/Paris
BEGIN:VEVENT
UID:512@egliseverte.org
DTSTART;TZID=Europe/Paris;VALUE=DATE:20251122
DTEND;TZID=Europe/Paris;VALUE=DATE:20251123
DTSTAMP:20251112T113253Z
URL:https://www.egliseverte.org/agenda/campus-laudato-si-inter-spiritualit
 e/
SUMMARY:Campus Laudato Si' 2 (1ère journée) : inter-spiritualité - Agir 
 en tant de crise. De la pratique intérieure à l'engagement altruiste
DESCRIPTION:Le monde contemporain est bouleversé par l’impact de multipl
 es « séismes » qui ébranlent nos repères et malmènent nos certitudes
 .\n\nCette journée est proposée en partenariat avec un groupe de recherc
 he: le « Groupe Interspirituel du Forum »\, qui se réunit régulièreme
 nt au Forum 104\, à Paris. Cette initiative est née de la maturation len
 te\, mais déterminée\, de nos interrogations partagées : comment agir e
 n ces temps de désarroi\, quand l’urgence de profondes métamorphoses n
 ous presse ? Tout en faisant dialoguer les traditions spirituelles qui nou
 s inspirent\, nous avons établi un état des lieux\, rude mais nécessair
 e\, afin de poser les bases d’une action vivifiée par la Présence int
 érieure.\n\nDe cette dimension spirituelle peut se développer le champ d
 es opportunités\, espace ouvert par les brèches de la Crise actuelle. Il
  nous restera à partager des élans\, des initiatives et des actions féc
 ondées par la mutation des consciences. A la suite de Gandhi\, nous somme
 s convaincus qu’il nous appartient ensemble « d’être le changement q
 ue nous voulons voir dans le monde ».\n\nIntervenants\, programmes\, prix
  :\n\nhttps://centreheleneetjeanbastaire.fr/evenements/campus-laudato-si-t
 hematique-1-inter-spiritualite-agir-en-temps-de-crise-de-la-pratique-inter
 ieure-a-lengagement-altruiste/
ATTACH;FMTTYPE=image/jpeg:https://www.egliseverte.org/wp-content/uploads/2
 025/08/Campus-Laudato-Si-Inter-spiritualite.png
LOCATION:Centre Hélène et Jean Bastaire (46)\, 190\, route de l'ancienne 
 école\, Berganty\, Lot\, 46090\, Occitanie\, France
GEO:44.449212;1.639576
X-APPLE-STRUCTURED-LOCATION;VALUE=URI;X-ADDRESS=190\, route de l'ancienne 
 école\, Berganty\, Lot\, 46090\, Occitanie\, France;X-APPLE-RADIUS=100;X-
 TITLE=Centre Hélène et Jean Bastaire (46):geo:44.449212,1.639576
END:VEVENT
BEGIN:VTIMEZONE
TZID:Europe/Paris
X-LIC-LOCATION:Europe/Paris
BEGIN:STANDARD
DTSTART:20251026T020000
TZOFFSETFROM:+0200
TZOFFSETTO:+0100
TZNAME:CET
END:STANDARD
END:VTIMEZONE
END:VCALENDAR