BEGIN:VCALENDAR
VERSION:2.0
PRODID:-//wp-events-plugin.com//7.2.3.1//EN
TZID:Europe/Paris
X-WR-TIMEZONE:Europe/Paris
BEGIN:VEVENT
UID:475@egliseverte.org
DTSTART;TZID=Europe/Paris:20250425T150000
DTEND;TZID=Europe/Paris:20250425T170000
DTSTAMP:20250423T144048Z
URL:https://www.egliseverte.org/agenda/celebration-en-ligne-de-lheritage-e
 cologique-du-pape-francois/
SUMMARY:Célébration en ligne de l'héritage écologique du pape François
DESCRIPTION:Alors que nous nous rassemblons dans ce moment de deuil pour no
 tre bien aimé pape François\, nous nous réjouissons aussi du don de la 
 vie éternelle et de l’espérance que François a suscité ici sur Terre
 .\n\nDans cet esprit de gratitude\, le Mouvement Laudato Si' vous invite 
 à rejoindre une célébration internationale en ligne de la vie et de l
 ’héritage du pape François dans la sauvegarde de la Création. \n\nDes
  orateurs du monde entier raconteront ce que le pape François a signifié
  pour eux. \nDes chants et des prières nous aideront à réfléchir ensem
 ble pendant ce moment profond de deuil et de joie.\n\nhttps://us06web.zoom
 .us/webinar/register/WN_NptVMwMCT8mJF9FlMQIRyw#/registration
ATTACH;FMTTYPE=image/jpeg:https://www.egliseverte.org/wp-content/uploads/2
 025/04/mls-celebration.jpg
LOCATION:https://us06web.zoom.us/webinar/register/WN_NptVMwMCT8mJF9FlMQIRyw
 #/registration
END:VEVENT
BEGIN:VTIMEZONE
TZID:Europe/Paris
X-LIC-LOCATION:Europe/Paris
BEGIN:DAYLIGHT
DTSTART:20250330T030000
TZOFFSETFROM:+0100
TZOFFSETTO:+0200
TZNAME:CEST
END:DAYLIGHT
END:VTIMEZONE
END:VCALENDAR