BEGIN:VCALENDAR
VERSION:2.0
PRODID:-//wp-events-plugin.com//7.2.3.1//EN
TZID:Europe/Paris
X-WR-TIMEZONE:Europe/Paris
BEGIN:VEVENT
UID:539@egliseverte.org
DTSTART;TZID=Europe/Paris:20250914T103000
DTEND;TZID=Europe/Paris:20250914T120000
DTSTAMP:20250912T122953Z
URL:https://www.egliseverte.org/agenda/celebration-oecumenique-2/
SUMMARY:Célébration oecuménique
DESCRIPTION:Célébration préparée avec la paroisse protestante de Bourg-
 la-Reine voisine.
ATTACH;FMTTYPE=image/jpeg:https://www.egliseverte.org/wp-content/uploads/2
 025/06/FR-2025-SOC-scaled.png
LOCATION:Église Saint-Léonard (94)\, 10 rue Jean Jaurès\, L'Haÿ-les-Ros
 es\, 94\, 94240\, Ile-de-France\, France
GEO:48.778095;2.335079
X-APPLE-STRUCTURED-LOCATION;VALUE=URI;X-ADDRESS=10 rue Jean Jaurès\, L'Ha
 ÿ-les-Roses\, 94\, 94240\, Ile-de-France\, France;X-APPLE-RADIUS=100;X-TI
 TLE=Église Saint-Léonard (94):geo:48.778095,2.335079
END:VEVENT
BEGIN:VTIMEZONE
TZID:Europe/Paris
X-LIC-LOCATION:Europe/Paris
BEGIN:DAYLIGHT
DTSTART:20250330T030000
TZOFFSETFROM:+0100
TZOFFSETTO:+0200
TZNAME:CEST
END:DAYLIGHT
END:VTIMEZONE
END:VCALENDAR