BEGIN:VCALENDAR
VERSION:2.0
PRODID:-//wp-events-plugin.com//7.2.3.1//EN
TZID:Europe/Paris
X-WR-TIMEZONE:Europe/Paris
BEGIN:VEVENT
UID:396@egliseverte.org
DTSTART;TZID=Europe/Paris:20241004T180000
DTEND;TZID=Europe/Paris:20241004T190000
DTSTAMP:20240913T144731Z
URL:https://www.egliseverte.org/agenda/celebration-oecumenique-du-temps-po
 ur-la-creation-69/
SUMMARY:Célébration œcuménique du Temps pour la Création (69)
DESCRIPTION:Clôture du Temps pour la Création par les communautés chrét
 iennes lyonnaises\n\nhttp://oecumenisme-lyon.com/#les-rendezvous
ATTACH;FMTTYPE=image/jpeg:https://www.egliseverte.org/wp-content/uploads/2
 024/09/celebratin-Lyon-2024-min.jpg
LOCATION:église baptiste de Lyon\, 85 crs Vitton\, Lyon\, 69006\, France
X-APPLE-STRUCTURED-LOCATION;VALUE=URI;X-ADDRESS=85 crs Vitton\, Lyon\, 6900
 6\, France;X-APPLE-RADIUS=100;X-TITLE=église baptiste de Lyon:geo:0,0
END:VEVENT
BEGIN:VTIMEZONE
TZID:Europe/Paris
X-LIC-LOCATION:Europe/Paris
BEGIN:DAYLIGHT
DTSTART:20240331T030000
TZOFFSETFROM:+0100
TZOFFSETTO:+0200
TZNAME:CEST
END:DAYLIGHT
END:VTIMEZONE
END:VCALENDAR