BEGIN:VCALENDAR
VERSION:2.0
PRODID:-//wp-events-plugin.com//7.2.3.1//EN
TZID:Europe/Paris
X-WR-TIMEZONE:Europe/Paris
BEGIN:VEVENT
UID:558@egliseverte.org
DTSTART;TZID=Europe/Paris:20251004T153000
DTEND;TZID=Europe/Paris:20251004T153000
DTSTAMP:20250912T124956Z
URL:https://www.egliseverte.org/agenda/celebration-oecumenique-lyon/
SUMMARY:Célébration œcuménique lyonnaise
DESCRIPTION:Célébration œcuménique de la fin du Temps pour la Création
 \, co-célébrée par Mgr Olivier de Germay (évêque de Lyon) et Pasteur 
 Serge Wüthrich (Fédération Protestante de France\, antenne de Lyon)\, e
 t des membres du CREL
ATTACH;FMTTYPE=image/jpeg:https://www.egliseverte.org/wp-content/uploads/2
 025/09/10-ANS-LAUDATO-04-10-25.jpg
LOCATION:Halte de Vaise\, 26 rue Laporte\, LYON\, 6900\, France
GEO:45.778024;4.803128
X-APPLE-STRUCTURED-LOCATION;VALUE=URI;X-ADDRESS=26 rue Laporte\, LYON\, 690
 0\, France;X-APPLE-RADIUS=100;X-TITLE=Halte de Vaise:geo:45.778024,4.80312
 8
END:VEVENT
BEGIN:VTIMEZONE
TZID:Europe/Paris
X-LIC-LOCATION:Europe/Paris
BEGIN:DAYLIGHT
DTSTART:20250330T030000
TZOFFSETFROM:+0100
TZOFFSETTO:+0200
TZNAME:CEST
END:DAYLIGHT
END:VTIMEZONE
END:VCALENDAR