BEGIN:VCALENDAR
VERSION:2.0
PRODID:-//wp-events-plugin.com//7.2.3.1//EN
TZID:Europe/Paris
X-WR-TIMEZONE:Europe/Paris
BEGIN:VEVENT
UID:510@egliseverte.org
DTSTART;TZID=Europe/Paris:20250914T160000
DTEND;TZID=Europe/Paris:20250914T173000
DTSTAMP:20250801T094557Z
URL:https://www.egliseverte.org/agenda/celebration-oecumenique-pour-la-cre
 ation/
SUMMARY:Célébration œcuménique  pour la Création
DESCRIPTION:En Vendée\, cette célébration préparée et animée par les 
 3 confessions chrétiennes Église verte\, aura lieu le dimanche 14 septem
 bre\, à partir de 16h.\nL'abbaye qui nous accueille va nous permettre de 
 prier en plein air (Possibilité de repli en cas de pluie). Apportez votre
  siège.\n\nUne visite de l’abbaye par le Père Abbé est proposée avan
 t\, à partir de 14h30.\nUn verre de l’amitié suivra la célébration.\
 nToutes les communautés (vendéennes\, Église verte\, sympathisantes ou 
 simplement désireuses de prier pour la Paix avec la Création) seront les
  bienvenues.\nUn QR code peut permettre de faire un co voiturage .\nRéser
 vez cette date et venez pour cette première célébration œcuménique au
  niveau de la Vendée !
ATTACH;FMTTYPE=image/jpeg:https://www.egliseverte.org/wp-content/uploads/2
 025/08/Celebration_Creation_Grainetiere_Affiche-scaled.png
LOCATION:Abbaye la Grainetière (85)\, La Grange d’Ardelay\, Les Herbiers
  \, Vendée\, 85500\, Pays de Loire\, France
GEO:46.834629;-1.059553
X-APPLE-STRUCTURED-LOCATION;VALUE=URI;X-ADDRESS=La Grange d’Ardelay\, Les
  Herbiers \, Vendée\, 85500\, Pays de Loire\, France;X-APPLE-RADIUS=100;X
 -TITLE=Abbaye la Grainetière (85):geo:46.834629,-1.059553
END:VEVENT
BEGIN:VTIMEZONE
TZID:Europe/Paris
X-LIC-LOCATION:Europe/Paris
BEGIN:DAYLIGHT
DTSTART:20250330T030000
TZOFFSETFROM:+0100
TZOFFSETTO:+0200
TZNAME:CEST
END:DAYLIGHT
END:VTIMEZONE
END:VCALENDAR