BEGIN:VCALENDAR
VERSION:2.0
PRODID:-//wp-events-plugin.com//7.2.3.1//EN
TZID:Europe/Paris
X-WR-TIMEZONE:Europe/Paris
BEGIN:VEVENT
UID:413@egliseverte.org
DTSTART;TZID=Europe/Paris:20241001T183000
DTEND;TZID=Europe/Paris:20241001T193000
DTSTAMP:20240927T180648Z
URL:https://www.egliseverte.org/agenda/celebration-oecumenique-temps-pour-
 la-creation-72/
SUMMARY:Célébration œcuménique - Temps pour la création (72)
DESCRIPTION:Célébration œcuménique\, catholiques\, protestants\, orthod
 oxes réunis.
ATTACH;FMTTYPE=image/jpeg:https://www.egliseverte.org/wp-content/uploads/2
 024/09/Affiche-Temps-pour-la-Creation-A4.png
LOCATION:Temple Protestant\, 16 Rue Barbier\, Le Mans\, 72\, 72000\, Pays d
 e la Loire\, France
X-APPLE-STRUCTURED-LOCATION;VALUE=URI;X-ADDRESS=16 Rue Barbier\, Le Mans\, 
 72\, 72000\, Pays de la Loire\, France;X-APPLE-RADIUS=100;X-TITLE=Temple P
 rotestant:geo:0,0
END:VEVENT
BEGIN:VTIMEZONE
TZID:Europe/Paris
X-LIC-LOCATION:Europe/Paris
BEGIN:DAYLIGHT
DTSTART:20240331T030000
TZOFFSETFROM:+0100
TZOFFSETTO:+0200
TZNAME:CEST
END:DAYLIGHT
END:VTIMEZONE
END:VCALENDAR