BEGIN:VCALENDAR
VERSION:2.0
PRODID:-//wp-events-plugin.com//7.2.3.1//EN
TZID:Europe/Paris
X-WR-TIMEZONE:Europe/Paris
BEGIN:VEVENT
UID:567@egliseverte.org
DTSTART;TZID=Europe/Paris:20251010T200000
DTEND;TZID=Europe/Paris:20251010T220000
DTSTAMP:20250915T091706Z
URL:https://www.egliseverte.org/agenda/celebration-paix-avec-la-creation/
SUMMARY:Célébration Paix avec la Création
DESCRIPTION:Chrétiens Unis pour la Terre (CUT) et Église Verte Espérance
  (EVE) vous invitent à venir vivre un temps spirituel et d’expérience 
 sensible autour du thème “PAIX AVEC LA CRÉATION”\, à l’église No
 tre-Dame d’Espérance (47 rue de la Roquette - 75011 Paris).\n\nDes temp
 s de partage\, d’écoute\, de prière\, de musique alterneront avec des 
 exercices issus du Travail qui Relie\, une méthodologie héritée de Joan
 na Macy\, pour accompagner notre transition personnelle et collective. La 
 soirée sera co-animée par Christine Kristof\, des membres de CUT et l’
 équipe Église verte Espérance.
ATTACH;FMTTYPE=image/jpeg:https://www.egliseverte.org/wp-content/uploads/2
 025/09/photo_5888640187519584739_y1.jpg
LOCATION:Eglise notre dame d'espérance paris\, 47 rue de la Roquette\, Par
 is\, 75011\, France
GEO:48.855732;2.374605
X-APPLE-STRUCTURED-LOCATION;VALUE=URI;X-ADDRESS=47 rue de la Roquette\, Par
 is\, 75011\, France;X-APPLE-RADIUS=100;X-TITLE=Eglise notre dame d'espéra
 nce paris:geo:48.855732,2.374605
END:VEVENT
BEGIN:VTIMEZONE
TZID:Europe/Paris
X-LIC-LOCATION:Europe/Paris
BEGIN:DAYLIGHT
DTSTART:20250330T030000
TZOFFSETFROM:+0100
TZOFFSETTO:+0200
TZNAME:CEST
END:DAYLIGHT
END:VTIMEZONE
END:VCALENDAR