BEGIN:VCALENDAR
VERSION:2.0
PRODID:-//wp-events-plugin.com//7.2.3.1//EN
TZID:Europe/Paris
X-WR-TIMEZONE:Europe/Paris
BEGIN:VEVENT
UID:613@egliseverte.org
DTSTART;TZID=Europe/Paris:20251112T183000
DTEND;TZID=Europe/Paris:20251112T190000
DTSTAMP:20251112T105650Z
URL:https://www.egliseverte.org/agenda/cercle-de-silence-pour-la-cop-30/
SUMMARY:CERCLE de SILENCE pour la COP 30
DESCRIPTION:Cercle de Silence pour soutenir la COP 30
ATTACH;FMTTYPE=image/jpeg:https://www.egliseverte.org/wp-content/uploads/2
 025/11/CERCLE-SILENCE-IMG_20251103_191529.jpg
LOCATION:Place SAN NICOLA à BASTIA\, palce San Nicola\, BASTIA\, Haute Cor
 se \, 20200\, France
GEO:42.700595;9.451219
X-APPLE-STRUCTURED-LOCATION;VALUE=URI;X-ADDRESS=palce San Nicola\, BASTIA\,
  Haute Corse \, 20200\, France;X-APPLE-RADIUS=100;X-TITLE=Place SAN NICOLA
  à BASTIA:geo:42.700595,9.451219
END:VEVENT
BEGIN:VTIMEZONE
TZID:Europe/Paris
X-LIC-LOCATION:Europe/Paris
BEGIN:STANDARD
DTSTART:20251026T020000
TZOFFSETFROM:+0200
TZOFFSETTO:+0100
TZNAME:CET
END:STANDARD
END:VTIMEZONE
END:VCALENDAR