BEGIN:VCALENDAR
VERSION:2.0
PRODID:-//wp-events-plugin.com//7.2.3.1//EN
TZID:Europe/Paris
X-WR-TIMEZONE:Europe/Paris
BEGIN:VEVENT
UID:485@egliseverte.org
DTSTART;TZID=Europe/Paris:20250530T183000
DTEND;TZID=Europe/Paris:20250530T213000
DTSTAMP:20250512T073609Z
URL:https://www.egliseverte.org/agenda/cine-debat-razzia-sur-latlantique/
SUMMARY:Ciné-Débat "Razzia sur l'Atlantique"
DESCRIPTION:Dans le cadre de la Troisième Conférence des Nations unies su
 r l'Océan (UNOC3) qui se tiendra du 9 au 13 juin prochain à Nice\, le CC
 FD et Église Verte se sont réunis pour vous proposer un évènement uniq
 ue.\nLe 30 mai prochain\, nous organisons un ciné-débat sur le film "Raz
 zia sur l'Atlantique" qui sera projeté à l'amphithéâtre de la paroisse
  de Sophia. Un apéritif dinatoire offert par le CCFD vous sera proposé 
 à l'issue pour continuer à échanger autour de ce sujet passionnant.\n\n
 Date : 30/05\nHeure : 18h30\nLieu : Amphithéâtre de l’Église ND Sages
 se\nProgramme :\n\n 	18h30-19h30 : Projection du film Razzia sur l'Atlanti
 que\n 	19h30-20h30 : Table ronde et débat animé par Janny Plessis et Ant
 oine Guy.\n\nSeront présents pour cette table ronde : un marin pêcheur a
 ux pratiques artisanales (Quentin Dantès)\, un partenaire ADEPA (Moussa M
 bengue)\, un représentant de l'association Rescue Ocean (Olivier-Françoi
 s Gay) et bien d'autres encore !\nLien d'inscription : https://my.weezeven
 t.com/cine-debat-razzia-sur-latlantique\nPensez à vous inscrire\, le nomb
 re de places est limité !
ATTACH;FMTTYPE=image/jpeg:https://www.egliseverte.org/wp-content/uploads/2
 025/05/ndsagesse-affiche-cinedebat-30-mai-2025-scaled.jpg
LOCATION:Centre Pastoral Paul VI - Eglise de Sophia Antipolis - ND Sagesse\
 , Centre Pastoral Paul VI - Avenue Georges Pompidou \, Sophia Antipolis - 
 Valbonne\, 06560 \, Alpes Maritimes\, France
X-APPLE-STRUCTURED-LOCATION;VALUE=URI;X-ADDRESS=Centre Pastoral Paul VI - A
 venue Georges Pompidou \, Sophia Antipolis - Valbonne\, 06560 \, Alpes Mar
 itimes\, France;X-APPLE-RADIUS=100;X-TITLE=Centre Pastoral Paul VI - Eglis
 e de Sophia Antipolis - ND Sagesse:geo:0,0
END:VEVENT
BEGIN:VTIMEZONE
TZID:Europe/Paris
X-LIC-LOCATION:Europe/Paris
BEGIN:DAYLIGHT
DTSTART:20250330T030000
TZOFFSETFROM:+0100
TZOFFSETTO:+0200
TZNAME:CEST
END:DAYLIGHT
END:VTIMEZONE
END:VCALENDAR