BEGIN:VCALENDAR
VERSION:2.0
PRODID:-//wp-events-plugin.com//7.2.3.1//EN
TZID:Europe/Paris
X-WR-TIMEZONE:Europe/Paris
BEGIN:VEVENT
UID:616@egliseverte.org
DTSTART;TZID=Europe/Paris:20251127T203000
DTEND;TZID=Europe/Paris:20251127T220000
DTSTAMP:20251112T105731Z
URL:https://www.egliseverte.org/agenda/cine-debat-seeds-of-dignity/
SUMMARY:Ciné-Débat "Seeds of Dignity"
DESCRIPTION:Véritable hommage à la paysannerie\, Seeds of dignity porte u
 n message très positif et montre qu’il est possible d’envisager une m
 eilleure souveraineté alimentaire dans la région du Levant grâce aux se
 mences paysannes. Il permet d’ouvrir le débat sur d’autres territoire
 s. La question de la dépendance\, notamment en cas de conflit\, lorsque l
 a nourriture est utilisée comme une arme pour asservir une domination sur
  la population\, est habilement traitée\, tout comme les conséquences n
 éfastes de la « Révolution verte ». Le format court du documentaire ai
 nsi que ses très belles images rendent très agréable le visionnage.\n\n
 Adapté à un public scolaire dès le lycée et au grand public.\n\nSEEDS 
 OF DIGNITY\n\nAli Alsheikh Khedr / 2025\n\nLe blé est depuis longtemps vi
 tal en Asie de l’Ouest et Afrique du nord\, mais la région dépend des 
 importations\, ce qui rend des millions de personnes vulnérables. Lorsque
  les silos à grains du Liban ont explosé en 2020\, l’urgence de la sou
 veraineté alimentaire est devenue évidente. Buzuruna Juzuruna\, un colle
 ctif populaire\, fait revivre le blé ancien\, reprend la production alime
 ntaire et résiste au contrôle des entreprises. Son réseau s’étend à
  l’Égypte\, à l’Irak\, à la Syrie\, à la Palestine et à l’Europ
 e\, transmettant ses connaissances aux générations futures. Le film rév
 èle comment le contrôle des semences et de notre alimentation est est la
  clé d’une véritable liberté et d’une autosuffisance.\n\nComment pa
 rticiper ?\nSans inscription / Entrée et participation libre\n\nOù et qu
 and ?\n27 Nov. / 20h30 / Sophia
ATTACH;FMTTYPE=image/jpeg:https://www.egliseverte.org/wp-content/uploads/2
 025/11/ndsagesse-affiche-cinedebat-seed-of-dignity-1.jpg
LOCATION:Eglise ND Sagesse\, Centre Pastoral Paul VI - Avenue Georges Pompi
 dou \, Sophia Antipolis - Valbonne\, 06560 \, Alpes Maritimes\, France
GEO:43.623143;7.052152
X-APPLE-STRUCTURED-LOCATION;VALUE=URI;X-ADDRESS=Centre Pastoral Paul VI - A
 venue Georges Pompidou \, Sophia Antipolis - Valbonne\, 06560 \, Alpes Mar
 itimes\, France;X-APPLE-RADIUS=100;X-TITLE=Eglise ND Sagesse:geo:43.623143
 ,7.052152
END:VEVENT
BEGIN:VTIMEZONE
TZID:Europe/Paris
X-LIC-LOCATION:Europe/Paris
BEGIN:STANDARD
DTSTART:20251026T020000
TZOFFSETFROM:+0200
TZOFFSETTO:+0100
TZNAME:CET
END:STANDARD
END:VTIMEZONE
END:VCALENDAR