BEGIN:VCALENDAR
VERSION:2.0
PRODID:-//wp-events-plugin.com//7.2.3.1//EN
TZID:Europe/Paris
X-WR-TIMEZONE:Europe/Paris
BEGIN:VEVENT
UID:303@egliseverte.org
DTSTART;TZID=Europe/Paris:20240227T200000
DTEND;TZID=Europe/Paris:20240227T220000
DTSTAMP:20240214T155717Z
URL:https://www.egliseverte.org/agenda/clameur-des-pauvres-clameur-de-la-t
 erre-46/
SUMMARY:"Clameur des pauvres\, clameur de la terre" (46)
DESCRIPTION:Dans le cadre des soirées de Carême de la paroisse\, rencontr
 e co-animée par les équipes locales du CCFD-Terre Solidaire et d’Égli
 se verte - Thématique : "L'intime relation entre les pauvres et la fragil
 ité de la planète"
ATTACH;FMTTYPE=image/jpeg:https://www.egliseverte.org/wp-content/uploads/2
 024/01/Visuel-Careme-2024-CUT-V2.jpg
LOCATION:Chapelle de Terre Rouge\, 75 avenue Jean Lurçat\, CAHORS\, LOT\, 
 46000\, Occitanie\, France
X-APPLE-STRUCTURED-LOCATION;VALUE=URI;X-ADDRESS=75 avenue Jean Lurçat\, CA
 HORS\, LOT\, 46000\, Occitanie\, France;X-APPLE-RADIUS=100;X-TITLE=Chapell
 e de Terre Rouge:geo:0,0
END:VEVENT
BEGIN:VTIMEZONE
TZID:Europe/Paris
X-LIC-LOCATION:Europe/Paris
BEGIN:STANDARD
DTSTART:20231029T020000
TZOFFSETFROM:+0200
TZOFFSETTO:+0100
TZNAME:CET
END:STANDARD
END:VTIMEZONE
END:VCALENDAR