BEGIN:VCALENDAR
VERSION:2.0
PRODID:-//wp-events-plugin.com//7.2.3.1//EN
TZID:Europe/Paris
X-WR-TIMEZONE:Europe/Paris
BEGIN:VEVENT
UID:593@egliseverte.org
DTSTART;TZID=Europe/Paris:20251004T193000
DTEND;TZID=Europe/Paris:20251004T220000
DTSTAMP:20251001T141440Z
URL:https://www.egliseverte.org/agenda/cloture-temps-creation-2025-rencont
 re-projection-docu-ecologie-nouveau-souffle-pour-leglise/
SUMMARY:CLOTURE TEMPS POUR LA CREATION 2025 : RENCONTRE/PROJECTION du docum
 entaire "Écologie\, un nouveau souffle pour l’Église ?"
DESCRIPTION:PROJECTION/RENCONTRE autour du documentaire "Ecologie\, un nouv
 eau souffle pour l'Eglise" de Matthieu Saintenac.\nSuivie d'un temps d'éc
 hanges\, de témoignages de groupes EGLISE VERTE et de prière.\nPot frate
 rnel en fin de soirée.
ATTACH;FMTTYPE=image/jpeg:https://www.egliseverte.org/wp-content/uploads/2
 025/10/2025.10.04-Affiche-Projection.jpg
LOCATION:EGLISE NOTRE-DAME-DE-LA-CROIX\, 4 RUE D'EUPATORIA\, PARIS\, PARIS\
 , 75020\, ILE-DE-FRANCE\, France
GEO:48.868633;2.387011
X-APPLE-STRUCTURED-LOCATION;VALUE=URI;X-ADDRESS=4 RUE D'EUPATORIA\, PARIS\,
  PARIS\, 75020\, ILE-DE-FRANCE\, France;X-APPLE-RADIUS=100;X-TITLE=EGLISE 
 NOTRE-DAME-DE-LA-CROIX:geo:48.868633,2.387011
END:VEVENT
BEGIN:VTIMEZONE
TZID:Europe/Paris
X-LIC-LOCATION:Europe/Paris
BEGIN:DAYLIGHT
DTSTART:20250330T030000
TZOFFSETFROM:+0100
TZOFFSETTO:+0200
TZNAME:CEST
END:DAYLIGHT
END:VTIMEZONE
END:VCALENDAR