BEGIN:VCALENDAR
VERSION:2.0
PRODID:-//wp-events-plugin.com//7.2.3.1//EN
TZID:Europe/Paris
X-WR-TIMEZONE:Europe/Paris
BEGIN:VEVENT
UID:447@egliseverte.org
DTSTART;TZID=Europe/Paris:20250329T140000
DTEND;TZID=Europe/Paris:20250329T163000
DTSTAMP:20250205T153107Z
URL:https://www.egliseverte.org/agenda/collecte-dechets-paroisse-hauts-de-
 marseille/
SUMMARY:Collecte de déchets sur la paroisse des Hauts de Marseille (13)
DESCRIPTION:L'association 1 déchet par jour nous fournit gants et sacs.\nU
 n goûter sera servi à la fin de l'activité au patronage Vauban
ATTACH;FMTTYPE=image/jpeg:https://www.egliseverte.org/wp-content/uploads/2
 024/04/Ramassage-dechets.jpg
LOCATION:Départ devant l\\\\\\\\\\\\\\'église St François d\\\\\\\\\\\\\
 \'Assise\, 113 Boulevard Vauban\, Marseille\, 13006\, France
X-APPLE-STRUCTURED-LOCATION;VALUE=URI;X-ADDRESS=113 Boulevard Vauban\, Mars
 eille\, 13006\, France;X-APPLE-RADIUS=100;X-TITLE=Départ devant l\\\\\\\\
 \\\\\\'église St François d\\\\\\\\\\\\\\'Assise:geo:0,0
END:VEVENT
BEGIN:VTIMEZONE
TZID:Europe/Paris
X-LIC-LOCATION:Europe/Paris
BEGIN:STANDARD
DTSTART:20241027T020000
TZOFFSETFROM:+0200
TZOFFSETTO:+0100
TZNAME:CET
END:STANDARD
END:VTIMEZONE
END:VCALENDAR