BEGIN:VCALENDAR
VERSION:2.0
PRODID:-//wp-events-plugin.com//7.2.3.1//EN
TZID:Europe/Paris
X-WR-TIMEZONE:Europe/Paris
BEGIN:VEVENT
UID:276@egliseverte.org
DTSTART;TZID=Europe/Paris:20230608T091500
DTEND;TZID=Europe/Paris:20230608T164500
DTSTAMP:20231120T161106Z
URL:https://www.egliseverte.org/agenda/colloque-perspectives-chretiennes-s
 ur-les-animaux-delevage-75-en-ligne/
SUMMARY:Colloque Perspectives chrétiennes sur les animaux d’élevage (75
 /en ligne)
DESCRIPTION:Nous avons le plaisir d'annoncer le quatrième colloque du cycl
 e « l'Église et les Animaux » consacré au thème « Perspectives chré
 tiennes sur les animaux de l'élevage. »\n\nCette journée aura lieu le j
 eudi 8 juin 2023 de 9 h 15 à 16 h 45 en présentiel au Centre Sèvres à 
 Paris et en distanciel.\n\n« Perspectives chrétiennes sur les animaux d
 ’élevage »\nLa sensibilité actuelle à la souffrance animale et à la
  crise écologique questionne l’usage des animaux dans l’élevage. Que
 lles perspectives chrétiennes peuvent éclairer les courants abolitionnis
 tes militant pour la suppression de l’élevage et les courants « welfar
 istes » insistant sur le bien-être animal ? S’appuyant sur l’expéri
 ence britannique de « Christian Ethics of Farmed Animal Welfare »\, cett
 e journée fera dialoguer éleveurs\, militants de la cause animale\, phil
 osophes et théologiens en vue de transformer le regard\, la relation et l
 es pratiques relatives aux animaux d’élevage.\n\nInscriptions : https:
 //centresevres.com/agenda/leglise-et-les-animaux/
ATTACH;FMTTYPE=image/jpeg:https://www.egliseverte.org/wp-content/uploads/2
 023/05/wam26371-768x512-1.jpg
LOCATION:Centre Sèvres - Jesuit Faculties of Paris\, 35 bis rue de Sèvres
 \, 75006 Paris\, Paris\, France\, 75006\, France
GEO:48.85071;2.325848
X-APPLE-STRUCTURED-LOCATION;VALUE=URI;X-ADDRESS=35 bis rue de Sèvres\, 750
 06 Paris\, Paris\, France\, 75006\, France;X-APPLE-RADIUS=100;X-TITLE=Cent
 re Sèvres - Jesuit Faculties of Paris:geo:48.85071,2.325848
END:VEVENT
BEGIN:VTIMEZONE
TZID:Europe/Paris
X-LIC-LOCATION:Europe/Paris
BEGIN:DAYLIGHT
DTSTART:20230326T030000
TZOFFSETFROM:+0100
TZOFFSETTO:+0200
TZNAME:CEST
END:DAYLIGHT
END:VTIMEZONE
END:VCALENDAR