BEGIN:VCALENDAR
VERSION:2.0
PRODID:-//wp-events-plugin.com//7.2.3.1//EN
TZID:Europe/Paris
X-WR-TIMEZONE:Europe/Paris
BEGIN:VEVENT
UID:314@egliseverte.org
DTSTART;TZID=Europe/Paris:20240321T203000
DTEND;TZID=Europe/Paris:20240321T220000
DTSTAMP:20240318T104841Z
URL:https://www.egliseverte.org/agenda/conference-ce-que-nous-avons-a-part
 ager-au-monde-92/
SUMMARY:Conférence "Ce que nous avons à partager au monde" (92)
DESCRIPTION:\nAvec "Laudate Deum" et "Laudato Si"\, le Pape François nous 
 interpelle et nous invite à sauvegarder la "Maison commune". Les protesta
 nts (EPUdF) se sont également mobilisés sur les enjeux de transition éc
 ologique à l'occasion de leur Synode de 2021 "Écologie : quelle(s) conve
 rsion(s) ?".  L'écologie chrétienne est une occasion pour relire ensemb
 le la Bible\, reprendre la théologie\, mais surtout de nous interroger su
 r ce que nous chrétiens\, avons ensemble à partager au monde sur ces en
 jeux de transition écologique.\n\nL'équipe Église verte de Clamart vous
  invite à une conférence\, avec Corine Bitaud\, théologienne et agron
 ome qui travaille à l’Église protestante unie de France sur les enjeux
  de transition écologique\, le jeudi 21 mars 2024\, à 20h30\, Église Sa
 int-Joseph (crypte)\, 145\, avenue Jean Jaurès à Clamart.
ATTACH;FMTTYPE=image/jpeg:https://www.egliseverte.org/wp-content/uploads/2
 024/03/Outlook-Conference.jpg
LOCATION:Eglise St Joseph\, 145 avenue Jean Jaurès\, Clamart\, 92140\, Fra
 nce
X-APPLE-STRUCTURED-LOCATION;VALUE=URI;X-ADDRESS=145 avenue Jean Jaurès\, C
 lamart\, 92140\, France;X-APPLE-RADIUS=100;X-TITLE=Eglise St Joseph:geo:0,
 0
END:VEVENT
BEGIN:VTIMEZONE
TZID:Europe/Paris
X-LIC-LOCATION:Europe/Paris
BEGIN:STANDARD
DTSTART:20231029T020000
TZOFFSETFROM:+0200
TZOFFSETTO:+0100
TZNAME:CET
END:STANDARD
END:VTIMEZONE
END:VCALENDAR