BEGIN:VCALENDAR
VERSION:2.0
PRODID:-//wp-events-plugin.com//7.2.3.1//EN
TZID:Europe/Paris
X-WR-TIMEZONE:Europe/Paris
BEGIN:VEVENT
UID:416@egliseverte.org
DTSTART;TZID=Europe/Paris:20241115T193000
DTEND;TZID=Europe/Paris:20241115T213000
DTSTAMP:20241014T120624Z
URL:https://www.egliseverte.org/agenda/conference-changement-climatique-ag
 ir-local-et-global/
SUMMARY:Conférence : Changement climatique : agir local et global (85)
DESCRIPTION:Le groupe œcuménique « Église verte » de la Roche sur Yon 
 organise une soirée conférence : "Changement climatique : agir local et 
 global". A cette occasion\, Église verte réunit différents partenaires 
 : l’Amaqy et la ville\, Les Amis de La Vie\, l’association Terres et R
 ivières ainsi que le CCFD-Terre Solidaire. Et inscrit sa proposition dans
  le cadre des animations de Festisol.\n\nOlivier Nouaillas sera l'interven
 ant principal. Journaliste pendant une vingtaine d'années à l'hebdomadai
 re La Vie en charge des questions liées à l'écologie\, il participe aus
 si aux Atlas édités par Le Monde. Enfin\, il est l'auteur de plusieurs o
 uvrages sur le climat.\n\nLes intervenants locaux : Frantz Després associ
 ation Terres et Rivières\, Anne Aubin Sicard et/ou Guy Batiot du comité 
 de pilotage de l’usine de traitement des eaux de l’agglomération.\n\n
 Soirée ouverte à tous.
ATTACH;FMTTYPE=image/jpeg:https://www.egliseverte.org/wp-content/uploads/2
 024/10/20241009_100954-retouchee.jpg
LOCATION:Maison de Quartier Les Pyramides\, 2 rue Jean-François Champollio
 n\, La Roche sur Yon\, Vendée\, 85000\, France
X-APPLE-STRUCTURED-LOCATION;VALUE=URI;X-ADDRESS=2 rue Jean-François Champo
 llion\, La Roche sur Yon\, Vendée\, 85000\, France;X-APPLE-RADIUS=100;X-T
 ITLE=Maison de Quartier Les Pyramides:geo:0,0
END:VEVENT
BEGIN:VTIMEZONE
TZID:Europe/Paris
X-LIC-LOCATION:Europe/Paris
BEGIN:STANDARD
DTSTART:20241027T020000
TZOFFSETFROM:+0200
TZOFFSETTO:+0100
TZNAME:CET
END:STANDARD
END:VTIMEZONE
END:VCALENDAR