BEGIN:VCALENDAR
VERSION:2.0
PRODID:-//wp-events-plugin.com//7.2.3.1//EN
TZID:Europe/Paris
X-WR-TIMEZONE:Europe/Paris
BEGIN:VEVENT
UID:462@egliseverte.org
DTSTART;TZID=Europe/Paris:20250330T160000
DTEND;TZID=Europe/Paris:20250330T180000
DTSTAMP:20250317T105626Z
URL:https://www.egliseverte.org/agenda/conference-de-careme-sancrer-dans-l
 esperance-pour-et-avec-la-creation-94/
SUMMARY:Conférence de Carême : S’ancrer dans l’Espérance pour et ave
 c la Création (94)
DESCRIPTION:Les conférences de Carême sont organisées par la paroisse de
  Notre Dame de Vincennes tous les dimanches de Carême à 16h dans l’ég
 lise Paroisse Notre Dame de Vincennes. En 2025\, le thème est : « En che
 min\, vivre le Jubilé dans l’Espérance ».\n\nLe 30 mars\, Sœur Hél
 ène Noisette interviendra sur le sujet de la Création.\n\nLes conférenc
 es sont suivies d’un échange avec les intervenants et la messe dominica
 le à 18 heures.
ATTACH;FMTTYPE=image/jpeg:https://www.egliseverte.org/wp-content/uploads/2
 023/10/7390_resized1.jpg
LOCATION:Eglise Notre Dame de Vincennes\, 82 Rue Raymond du Temple\, Vincen
 nes\, France\, 94300\, France
X-APPLE-STRUCTURED-LOCATION;VALUE=URI;X-ADDRESS=82 Rue Raymond du Temple\, 
 Vincennes\, France\, 94300\, France;X-APPLE-RADIUS=100;X-TITLE=Eglise Notr
 e Dame de Vincennes:geo:0,0
END:VEVENT
BEGIN:VTIMEZONE
TZID:Europe/Paris
X-LIC-LOCATION:Europe/Paris
BEGIN:DAYLIGHT
DTSTART:20250330T030000
TZOFFSETFROM:+0100
TZOFFSETTO:+0200
TZNAME:CEST
END:DAYLIGHT
END:VTIMEZONE
END:VCALENDAR