BEGIN:VCALENDAR
VERSION:2.0
PRODID:-//wp-events-plugin.com//7.2.3.1//EN
TZID:Europe/Paris
X-WR-TIMEZONE:Europe/Paris
BEGIN:VEVENT
UID:514@egliseverte.org
DTSTART;TZID=Europe/Paris:20250917T183000
DTEND;TZID=Europe/Paris:20250917T203000
DTSTAMP:20250909T105925Z
URL:https://www.egliseverte.org/agenda/conference-de-rentree-en-ligne-avec
 -sainte-hildegarde-de-bingen/
SUMMARY:Conférence de rentrée en ligne avec sainte Hildegarde de Bingen
DESCRIPTION:La sacralisation de la nature à travers Hildegarde de Bingen s
 emble venir d’une relecture actuelle qui isole certains de ses écrits s
 cientifiques pour en faire le tout de son oeuvre\, alors qu’ils n’y on
 t qu’une place secondaire par rapport au triptyque visionnaire qui en co
 nstitue l’originalité. Nous essayerons de voir cela\, en précisant ce 
 qu’il en est de la nature et du sacré\, dans l’oeuvre d'Hildegarde.\n
 \nIntervenante :\nPr. Marie-Anne VANNIER\, spécialiste des Pères de l’
 Eglise\,\nprofesseur de théologie à l’Université de Lorraine\, Metz.\
 n\nTarif 8 € et 4 € pour les étudiants\, les chômeurs et les retrait
 és.\n\nInscription : formulaire au lien ci-dessous\n\nhttps://centrehelen
 eetjeanbastaire.fr/evenements/fete-de-sainte-hildegarde-de-bingen/
ATTACH;FMTTYPE=image/jpeg:https://www.egliseverte.org/wp-content/uploads/2
 025/08/Logo-CHJB-Centre-BASTAIRE.png
LOCATION:https://centreheleneetjeanbastaire.fr/
END:VEVENT
BEGIN:VTIMEZONE
TZID:Europe/Paris
X-LIC-LOCATION:Europe/Paris
BEGIN:DAYLIGHT
DTSTART:20250330T030000
TZOFFSETFROM:+0100
TZOFFSETTO:+0200
TZNAME:CEST
END:DAYLIGHT
END:VTIMEZONE
END:VCALENDAR