BEGIN:VCALENDAR
VERSION:2.0
PRODID:-//wp-events-plugin.com//7.2.3.1//EN
TZID:Europe/Paris
X-WR-TIMEZONE:Europe/Paris
BEGIN:VEVENT
UID:549@egliseverte.org
DTSTART;TZID=Europe/Paris:20251002T201500
DTEND;TZID=Europe/Paris:20251002T221500
DTSTAMP:20250908T095813Z
URL:https://www.egliseverte.org/agenda/conference-debat-donner-sens-epargn
 e/
SUMMARY:Conférence-débat COMMENT DONNER DU SENS A SON ÉPARGNE ?
DESCRIPTION:3 intervenants:\n- Don Jean-Rémi Lanavère\, théologien\n- Au
 rélie Chabeaud\, La NEF\n- Frédéric Martin\, CCFD-Terre Solidaire\n\nT
 émoignages de chrétiens qui ont fait le choix d'orienter leur épargne\n
 \nTemps de questions et d'échanges
ATTACH;FMTTYPE=image/jpeg:https://www.egliseverte.org/wp-content/uploads/2
 025/09/Diapositive1.jpg
LOCATION:salle St Matthieu Sainte-Luce sur Loire (44)\, 21 rue du présiden
 t Coty\, Sainte-Luce sur Loire\, 44\, 44980\, Pays de la Loire\, France
GEO:47.249125;-1.488721
X-APPLE-STRUCTURED-LOCATION;VALUE=URI;X-ADDRESS=21 rue du président Coty\,
  Sainte-Luce sur Loire\, 44\, 44980\, Pays de la Loire\, France;X-APPLE-RA
 DIUS=100;X-TITLE=salle St Matthieu Sainte-Luce sur Loire (44):geo:47.24912
 5,-1.488721
END:VEVENT
BEGIN:VTIMEZONE
TZID:Europe/Paris
X-LIC-LOCATION:Europe/Paris
BEGIN:DAYLIGHT
DTSTART:20250330T030000
TZOFFSETFROM:+0100
TZOFFSETTO:+0200
TZNAME:CEST
END:DAYLIGHT
END:VTIMEZONE
END:VCALENDAR