BEGIN:VCALENDAR
VERSION:2.0
PRODID:-//wp-events-plugin.com//7.2.3.1//EN
TZID:Europe/Paris
X-WR-TIMEZONE:Europe/Paris
BEGIN:VEVENT
UID:424@egliseverte.org
DTSTART;TZID=Europe/Paris:20241213T203000
DTEND;TZID=Europe/Paris:20241213T223000
DTSTAMP:20241023T091906Z
URL:https://www.egliseverte.org/agenda/conference-debat-la-transition-ecol
 ogique-et-moi-72/
SUMMARY:Conférence débat "La transition écologique et moi" (72)
DESCRIPTION:Vendredi 13 décembre à 20h30\, Conférence-débat organisée 
 par le collectif "Comprendre pour agir"\n\n"La transition écologique et m
 oi" - Invitée : Léa Falco\, autrice de Faire écologie ensemble\n\nCCFD-
 Terre solidaire\, Chrétiens en Marche 72\, CVX\, CMR\, ACI\, ACO\, Eglise
  protestante unie
ATTACH;FMTTYPE=image/jpeg:https://www.egliseverte.org/wp-content/uploads/2
 024/10/Lea-Falco-241213-affiche3.jpg
LOCATION:Maison de Quartier de l\\\\\\\\\\\\\\'oiselière\, 144 Rue d'Isaac
 \, Le Mans\, 72\, 72000\, Pays de Loire\, France
X-APPLE-STRUCTURED-LOCATION;VALUE=URI;X-ADDRESS=144 Rue d'Isaac\, Le Mans\,
  72\, 72000\, Pays de Loire\, France;X-APPLE-RADIUS=100;X-TITLE=Maison de 
 Quartier de l\\\\\\\\\\\\\\'oiselière:geo:0,0
END:VEVENT
BEGIN:VTIMEZONE
TZID:Europe/Paris
X-LIC-LOCATION:Europe/Paris
BEGIN:STANDARD
DTSTART:20241027T020000
TZOFFSETFROM:+0200
TZOFFSETTO:+0100
TZNAME:CET
END:STANDARD
END:VTIMEZONE
END:VCALENDAR