BEGIN:VCALENDAR
VERSION:2.0
PRODID:-//wp-events-plugin.com//7.2.3.1//EN
TZID:Europe/Paris
X-WR-TIMEZONE:Europe/Paris
BEGIN:VEVENT
UID:342@egliseverte.org
DTSTART;TZID=Europe/Paris:20240606T190000
DTEND;TZID=Europe/Paris:20240606T203000
DTSTAMP:20240529T135104Z
URL:https://www.egliseverte.org/agenda/conference-debat-rehabiter-le-monde
 -comment-cohabiter-avec-le-vivant-92/
SUMMARY:Conférence débat - Réhabiter le monde\, comment cohabiter avec l
 e vivant ? (92)
DESCRIPTION:Rencontre-Débat de l'Entraide protestante de Levallois :\n« R
 éhabiter le monde : Comment cohabiter avec le vivant ?»\nJeudi 6 juin à
  19h\n\nLes intervenantes :\n\nAgnès SINAÏ\, Directrice de l’Institut 
 Momentum\, Enseignante à Sciences Po\, Docteure en aménagement de l’es
 pace et urbanisme\, Journaliste environnementale et auteure de nombreux ou
 vrages en faveur du biorégionalisme\n\nFreddie-Jeanne RICHARD\, Directric
 e de recherche INRAE\, Ecologie et comportement animal\, Maîtresse de con
 férence à l'Université de Poitiers\, spécialisée en matière d'insect
 es sociaux notamment les abeilles\n\nCorinne BITAUD\, Agronome\, Chargée 
 d'écologie et de justice climatique au sein de l'Eglise protestante unie 
 de France
ATTACH;FMTTYPE=image/jpeg:https://www.egliseverte.org/wp-content/uploads/2
 024/05/Invitation-Debat-entraide-6juin_A4-A5-Copie_Page_1.jpg
LOCATION:Eglise protestante unie de Levallois-Clichy\, 83 rue Anatole Franc
 e\, LEVALLOIS-PERRET\, 92300\, France
X-APPLE-STRUCTURED-LOCATION;VALUE=URI;X-ADDRESS=83 rue Anatole France\, LEV
 ALLOIS-PERRET\, 92300\, France;X-APPLE-RADIUS=100;X-TITLE=Eglise protestan
 te unie de Levallois-Clichy:geo:0,0
END:VEVENT
BEGIN:VTIMEZONE
TZID:Europe/Paris
X-LIC-LOCATION:Europe/Paris
BEGIN:DAYLIGHT
DTSTART:20240331T030000
TZOFFSETFROM:+0100
TZOFFSETTO:+0200
TZNAME:CEST
END:DAYLIGHT
END:VTIMEZONE
END:VCALENDAR