BEGIN:VCALENDAR
VERSION:2.0
PRODID:-//wp-events-plugin.com//7.2.3.1//EN
TZID:Europe/Paris
X-WR-TIMEZONE:Europe/Paris
BEGIN:VEVENT
UID:619@egliseverte.org
DTSTART;TZID=Europe/Paris:20251128T203000
DTEND;TZID=Europe/Paris:20251128T220000
DTSTAMP:20251118T152333Z
URL:https://www.egliseverte.org/agenda/conference-debat-sauvegarde-de-la-c
 reation-peut-on-encore-esperer/
SUMMARY:Conférence-Débat : Sauvegarde de la Création - Peut-on encore es
 pérer?
DESCRIPTION:INTERVENANTS\nAnne Fuchs\, chargée de mission écologie intég
 rale\, Diocèse de Strasbourg.\nJean-Sébastien Ingrand\, chargé de missi
 on Justice climatique\, Union des Églises Protestantes d'Alsace et Lorrai
 ne (UEPAL)
ATTACH;FMTTYPE=image/jpeg:https://www.egliseverte.org/wp-content/uploads/2
 025/11/logo-creation-2025.jpg
LOCATION:Temple protestant\, 9 faubourg de Colmar\, CERNAY\, Haut-Rhin\, 68
 700 \, Alsace\, France
GEO:47.809458;7.180197
X-APPLE-STRUCTURED-LOCATION;VALUE=URI;X-ADDRESS=9 faubourg de Colmar\, CERN
 AY\, Haut-Rhin\, 68700 \, Alsace\, France;X-APPLE-RADIUS=100;X-TITLE=Templ
 e protestant:geo:47.809458,7.180197
END:VEVENT
BEGIN:VTIMEZONE
TZID:Europe/Paris
X-LIC-LOCATION:Europe/Paris
BEGIN:STANDARD
DTSTART:20251026T020000
TZOFFSETFROM:+0200
TZOFFSETTO:+0100
TZNAME:CET
END:STANDARD
END:VTIMEZONE
END:VCALENDAR