BEGIN:VCALENDAR
VERSION:2.0
PRODID:-//wp-events-plugin.com//7.2.3.1//EN
TZID:Europe/Paris
X-WR-TIMEZONE:Europe/Paris
BEGIN:VEVENT
UID:320@egliseverte.org
DTSTART;TZID=Europe/Paris:20240504T140000
DTEND;TZID=Europe/Paris:20240504T170000
DTSTAMP:20240404T161708Z
URL:https://www.egliseverte.org/agenda/conference-dominique-lang-violence-
 contre-soi-nature-autres/
SUMMARY:Conférence Dominique LANG : VIOLENCE CONTRE SOI\, LA NATURE\, LES 
 AUTRES (89)
DESCRIPTION:Dominique LANG\, prêtre\, religieux assomptionniste\, est jour
 naliste à l’hebdomadaire Le Pèlerin. Il a écrit : Forts dans la faibl
 esse\, Au cœur de la non-violence évangélique. Il propose une conféren
 ce sur le thème de la violence :\n\n⇨ Approche théologique renouvelée
  de la non-violence et de la non-puissance\n\n⇨ Des clefs pour une possi
 ble cohabitation entre les artisans de paix et les acteurs violents de not
 re société selon l’enseignement du Christ\n\nLa voie évangélique n
 ’invite ni au pacifisme béat\, ni à la lutte politique. Encore moins 
 à l’inaction passive ! Alors\, quel chemin se frayer pour que l’Évan
 gile éclaire nos choix quotidiens ? Dans les Béatitudes\, le Christ affi
 rme que le royaume de Dieu appartient aux artisans de justice et de paix. 
 Mais comment appliquer cet enseignement dans notre époque complexe\, où 
 la paix sereine des uns cohabite avec la violence la plus abjecte des autr
 es ?\n\nPour nourrir cette réflexion\, Dominique Lang sollicite quelques 
 précurseurs : le juriste et penseur Jacques Ellul\, la résistante Noëll
 a Rouget\, le pasteur Martin Luther King\, l’objecteur de conscience Fra
 nz Jägerstätter. Sans oublier un lointain évêque\, Bernard de Chartres
 \, qui nous aide à prendre de la hauteur pour envisager le cours de l’H
 istoire. Avec eux\, nous comprenons que la non-violence engage à se désa
 rmer de ses puissances\, ou à les articuler avec la dynamique divine. En 
 suivant cette voie\, nous incarnerons la radicalité évangélique des Bé
 atitudes\, et nous contribuerons à construire un monde d’équité\, de 
 justice et de paix.
ATTACH;FMTTYPE=image/jpeg:https://www.egliseverte.org/wp-content/uploads/2
 024/04/dominique-lang.webp
LOCATION:La Tuilerie de Talouan\, Tuilerie de Talouan - La Fosse Rouge\, Vi
 lleneuve Sur Yonne\, Yonne\, 89500\, Bourgogne\, France
X-APPLE-STRUCTURED-LOCATION;VALUE=URI;X-ADDRESS=Tuilerie de Talouan - La Fo
 sse Rouge\, Villeneuve Sur Yonne\, Yonne\, 89500\, Bourgogne\, France;X-AP
 PLE-RADIUS=100;X-TITLE=La Tuilerie de Talouan:geo:0,0
END:VEVENT
BEGIN:VTIMEZONE
TZID:Europe/Paris
X-LIC-LOCATION:Europe/Paris
BEGIN:DAYLIGHT
DTSTART:20240331T030000
TZOFFSETFROM:+0100
TZOFFSETTO:+0200
TZNAME:CEST
END:DAYLIGHT
END:VTIMEZONE
END:VCALENDAR