BEGIN:VCALENDAR
VERSION:2.0
PRODID:-//wp-events-plugin.com//7.2.3.1//EN
TZID:Europe/Paris
X-WR-TIMEZONE:Europe/Paris
BEGIN:VEVENT
UID:203@egliseverte.org
DTSTART;TZID=Europe/Paris:20221028T200000
DTEND;TZID=Europe/Paris:20221028T220000
DTSTAMP:20231120T160607Z
URL:https://www.egliseverte.org/agenda/conference-du-36-albert-schweitzer-
 et-ses-oeuvres-67/
SUMMARY:Conférence du 36 "Albert Schweitzer et ses œuvres" (67)
DESCRIPTION:Dans le cadre d’Église verte et des 70 ans du prix Nobel d'A
 lbert Schweitzer nous organisons un soirée intitulée :\n"Albert Schweitz
 er et ses œuvres".\nEntrée gratuite\, un plateau sera mis à disposition
  et la collecte remise à l'Association des Amis d'Albert Schweitzer
ATTACH;FMTTYPE=image/jpeg:https://www.egliseverte.org/wp-content/uploads/2
 020/09/lion-3049884_1280.jpg
LOCATION:paroisse protestante du neuhof stockfeld\, 36 route  d'Altenheim\,
  STRASBOURG\, france\, 67100\, Alsace\, France
GEO:48.540664;7.767081
X-APPLE-STRUCTURED-LOCATION;VALUE=URI;X-ADDRESS=36 route  d'Altenheim\, STR
 ASBOURG\, france\, 67100\, Alsace\, France;X-APPLE-RADIUS=100;X-TITLE=paro
 isse protestante du neuhof stockfeld:geo:48.540664,7.767081
END:VEVENT
BEGIN:VTIMEZONE
TZID:Europe/Paris
X-LIC-LOCATION:Europe/Paris
BEGIN:DAYLIGHT
DTSTART:20220327T030000
TZOFFSETFROM:+0100
TZOFFSETTO:+0200
TZNAME:CEST
END:DAYLIGHT
END:VTIMEZONE
END:VCALENDAR