BEGIN:VCALENDAR
VERSION:2.0
PRODID:-//wp-events-plugin.com//7.2.3.1//EN
TZID:Europe/Paris
X-WR-TIMEZONE:Europe/Paris
BEGIN:VEVENT
UID:589@egliseverte.org
DTSTART;TZID=Europe/Paris:20251017T200000
DTEND;TZID=Europe/Paris:20251017T214500
DTSTAMP:20251011T124829Z
URL:https://www.egliseverte.org/agenda/conference-du-36/
SUMMARY:Conférence du 36
DESCRIPTION:Le 17 octobre 2025 à 20h à l’église\n\nSuzanne de Dietrich
 \, théologienne protestante engagée à la fois sur les plans\, spirituel
 \, intellectuel et social.\nElle a joué un rôle important au sein de la 
 Cimade
LOCATION:paroisse protestante du neuhof stockfeld\, 36 route d'Altenheim\, 
 Strasbourg\, france\, 67100\, Alsace\, France
GEO:48.540664;7.767081
X-APPLE-STRUCTURED-LOCATION;VALUE=URI;X-ADDRESS=36 route d'Altenheim\, Stra
 sbourg\, france\, 67100\, Alsace\, France;X-APPLE-RADIUS=100;X-TITLE=paroi
 sse protestante du neuhof stockfeld:geo:48.540664,7.767081
END:VEVENT
BEGIN:VTIMEZONE
TZID:Europe/Paris
X-LIC-LOCATION:Europe/Paris
BEGIN:DAYLIGHT
DTSTART:20250330T030000
TZOFFSETFROM:+0100
TZOFFSETTO:+0200
TZNAME:CEST
END:DAYLIGHT
END:VTIMEZONE
END:VCALENDAR