BEGIN:VCALENDAR
VERSION:2.0
PRODID:-//wp-events-plugin.com//7.2.3.1//EN
TZID:Europe/Paris
X-WR-TIMEZONE:Europe/Paris
BEGIN:VEVENT
UID:458@egliseverte.org
DTSTART;TZID=Europe/Paris:20250320T190000
DTEND;TZID=Europe/Paris:20250320T220000
DTSTAMP:20250305T172329Z
URL:https://www.egliseverte.org/agenda/conference-entrepreneurs-en-convers
 ion-59/
SUMMARY:Conférence "Entrepreneurs en conversion" (59)
DESCRIPTION:Pour la troisième soirée de notre cycle « entrepreneurs en c
 onversion » nous aurons la chance d’échanger avec 2 entrepreneurs insp
 irants :\n\n- Alban Decoster\, Dirigeant de la Brasserie Moulin d’Ascq\,
  brasse depuis des années une excellente bière bio. En 2024\, il a déci
 dé d’aller plus loin en rejoignant\, avec plus de 40 autres dirigeants 
 régionaux\, le parcours de la Convention des Entreprises pour le Climat (
 CEC) Hauts de France.\n\n- Maxime Pawlak\, entrepreneur dans l’informati
 que crée en 2020\, une société\, Eloi\, pour favoriser la reprise de
 s fermes par des agriculteurs éco-responsables. Membre des Entrepreneurs
  et dirigeants chrétiens (EDC)\, il préside la commission chargée de 
 la conversion écologique\n\nhttps://www.hautmont.org/conversion-ecologiq
 ue/conference-entrepreneurs-en-conversion/le-jeudi-20-mars-2025-de-19h30-a
 -22h00
ATTACH;FMTTYPE=image/jpeg:https://www.egliseverte.org/wp-content/uploads/2
 025/03/Conference-entreprise-en-conversion.jpg
LOCATION:Centre spirituel du Hautmont\, 31 rue Mirabeau\, Mouvaux\, France\
 , 59420\, France
GEO:50.705256;3.129091
X-APPLE-STRUCTURED-LOCATION;VALUE=URI;X-ADDRESS=31 rue Mirabeau\, Mouvaux\,
  France\, 59420\, France;X-APPLE-RADIUS=100;X-TITLE=Centre spirituel du Ha
 utmont:geo:50.705256,3.129091
END:VEVENT
BEGIN:VTIMEZONE
TZID:Europe/Paris
X-LIC-LOCATION:Europe/Paris
BEGIN:STANDARD
DTSTART:20241027T020000
TZOFFSETFROM:+0200
TZOFFSETTO:+0100
TZNAME:CET
END:STANDARD
END:VTIMEZONE
END:VCALENDAR