BEGIN:VCALENDAR
VERSION:2.0
PRODID:-//wp-events-plugin.com//7.2.3.1//EN
TZID:Europe/Paris
X-WR-TIMEZONE:Europe/Paris
BEGIN:VEVENT
UID:621@egliseverte.org
DTSTART;TZID=Europe/Paris:20251216T203000
DTEND;TZID=Europe/Paris:20251216T220000
DTSTAMP:20251128T123303Z
URL:https://www.egliseverte.org/agenda/conference-jesus-dans-la-creation/
SUMMARY:Conférence "Jésus dans la Création"
DESCRIPTION:« Jésus dans la Création - Source d'Espérance pour un monde
  en crise écologique et sociale »\nConférence du père Xavier de Bénaz
 é\, s.j.\nCoordinateur de l’écocentre spirituel au centre spirituel du
  Châtelard\nle mardi 16 décembre 2025 à 20h30
ATTACH;FMTTYPE=image/jpeg:https://www.egliseverte.org/wp-content/uploads/2
 025/11/Conf-2025-X-de-B-2025-12-16.png
LOCATION:Maison diocésaine Aix-en-Provence\, 7\, cours de la Trinité\, Ai
 x-en-Provence\, 13100\, Paca\, France
GEO:43.533633;5.454029
X-APPLE-STRUCTURED-LOCATION;VALUE=URI;X-ADDRESS=7\, cours de la Trinité\, 
 Aix-en-Provence\, 13100\, Paca\, France;X-APPLE-RADIUS=100;X-TITLE=Maison 
 diocésaine Aix-en-Provence:geo:43.533633,5.454029
END:VEVENT
BEGIN:VTIMEZONE
TZID:Europe/Paris
X-LIC-LOCATION:Europe/Paris
BEGIN:STANDARD
DTSTART:20251026T020000
TZOFFSETFROM:+0200
TZOFFSETTO:+0100
TZNAME:CET
END:STANDARD
END:VTIMEZONE
END:VCALENDAR