BEGIN:VCALENDAR
VERSION:2.0
PRODID:-//wp-events-plugin.com//7.2.3.1//EN
TZID:Europe/Paris
X-WR-TIMEZONE:Europe/Paris
BEGIN:VEVENT
UID:434@egliseverte.org
DTSTART;TZID=Europe/Paris:20241212T190000
DTEND;TZID=Europe/Paris:20241212T221500
DTSTAMP:20241210T094711Z
URL:https://www.egliseverte.org/agenda/conference-laudato-si-10-ans-apres-
 92/
SUMMARY:Conférence Laudato Si'\, 10 ans après (92)
DESCRIPTION:Voici quelques informations complémentaires :\n1-Les horaires 
 :\n19 heures : messe\n20 heures : repas partagé dans la salle Saint-Paul 
 attenante à l'église\n21 heures : conférence Laudato Si'\, 10 ans aprè
 s\, dans l'église\n22 heures 15 : fin de la soirée.\n2-Le repas :\nNous 
 proposons que chacun alimente un buffet simple avec des tartes\, des sandw
 ichs\, et d'autres mets faciles à manger sans couvert. Il y aura à dispo
 sition des gobelets\, des serviettes de table et de l'eau.\n3-Les sujets a
 bordés :\n• Bilan des 10 ans de l'encyclique Laudato Si du pape Franço
 is\n• Laudate Deum (lettre apostolique du pape François)\n• L'œcumé
 nisme\n• Le label Église verte\n• ….\n4-Accès :\nAdresse de l'égl
 ise : 39 rue Berthelot\, 92400 Courbevoie\n• 4.1-Transports en commun :\
 nFaubourg de l'Arche : Tram T2\, bus 178 et 73\nLa Défense : Transilien U
  et L\, RER A\, Métro 1\n• 4.2-Parkings à proximité :\nParking Camill
 e Claudel\, 77-79 Boulevard de la Mission Marchand\nParking Gaultier\, 58 
 rue Gaultier\nNB : →Les parkings du Monoprix et Urbis Park Jacques Carti
 er ferment à 20 heures.\n→ Seuls les moyens de transport non motorisés
 \, tels que les vélos et les trottinettes\, seront autorisés à stationn
 er dans le parking de l'église
ATTACH;FMTTYPE=image/jpeg:https://www.egliseverte.org/wp-content/uploads/2
 024/12/20241210_064855.jpg
LOCATION:Paroisse Saint-Adrien\, 39 rue Berthelot\, Courbevoie\, Hauts-de-S
 eine\, 92400\, Ile-de-France\, France
X-APPLE-STRUCTURED-LOCATION;VALUE=URI;X-ADDRESS=39 rue Berthelot\, Courbevo
 ie\, Hauts-de-Seine\, 92400\, Ile-de-France\, France;X-APPLE-RADIUS=100;X-
 TITLE=Paroisse Saint-Adrien:geo:0,0
END:VEVENT
BEGIN:VTIMEZONE
TZID:Europe/Paris
X-LIC-LOCATION:Europe/Paris
BEGIN:STANDARD
DTSTART:20241027T020000
TZOFFSETFROM:+0200
TZOFFSETTO:+0100
TZNAME:CET
END:STANDARD
END:VTIMEZONE
END:VCALENDAR