BEGIN:VCALENDAR
VERSION:2.0
PRODID:-//wp-events-plugin.com//7.2.3.1//EN
TZID:Europe/Paris
X-WR-TIMEZONE:Europe/Paris
BEGIN:VEVENT
UID:497@egliseverte.org
DTSTART;TZID=Europe/Paris:20250925T121500
DTEND;TZID=Europe/Paris:20250925T140000
DTSTAMP:20250611T104029Z
URL:https://www.egliseverte.org/agenda/conference-laudato-si-10-ans-apres/
SUMMARY:Conférence Laudato si' 10 ans après
DESCRIPTION:12h15 Messe de la Création\n12h45 Conférence donnée par Fran
 çois Baudin\, délégué diocésain à l'écologie intégrale des Hauts-d
 e-Seine\nPrévoir de quoi se restaurer\n\nPlace de La Défense\, parvis de
  La Défense (à droite du CNIT)\nMétro\, R.E.R et T2 : station « La Dé
 fense Grande Arche » accès : 50 m face à la sortie 5 (Calder-Miro)
ATTACH;FMTTYPE=image/jpeg:https://www.egliseverte.org/wp-content/uploads/2
 023/09/LS-couverture.jpg
LOCATION:Notre-Dame de Pentecôte (92)\, 1 av. de la Division Leclerc\, Put
 eaux\, Hauts-de-Seine\, 92800\, Ile de France\, France
GEO:48.891995;2.241012
X-APPLE-STRUCTURED-LOCATION;VALUE=URI;X-ADDRESS=1 av. de la Division Lecler
 c\, Puteaux\, Hauts-de-Seine\, 92800\, Ile de France\, France;X-APPLE-RADI
 US=100;X-TITLE=Notre-Dame de Pentecôte (92):geo:48.891995,2.241012
END:VEVENT
BEGIN:VTIMEZONE
TZID:Europe/Paris
X-LIC-LOCATION:Europe/Paris
BEGIN:DAYLIGHT
DTSTART:20250330T030000
TZOFFSETFROM:+0100
TZOFFSETTO:+0200
TZNAME:CEST
END:DAYLIGHT
END:VTIMEZONE
END:VCALENDAR