BEGIN:VCALENDAR
VERSION:2.0
PRODID:-//wp-events-plugin.com//7.2.3.1//EN
TZID:Europe/Paris
X-WR-TIMEZONE:Europe/Paris
BEGIN:VEVENT
UID:518@egliseverte.org
DTSTART;TZID=Europe/Paris:20251018T200000
DTEND;TZID=Europe/Paris:20251019T213000
DTSTAMP:20251013T151931Z
URL:https://www.egliseverte.org/agenda/conference-le-declin-de-la-biodiver
 site-so-what/
SUMMARY:Conférence : "Le déclin de la biodiversité\, so what ?"
DESCRIPTION:La biodiversité est l’œuvre de Dieu dont il se réjouit : c
 haque espèce a de la valeur aux yeux de Dieu\, indépendamment de l’Hom
 me.\nComment devons-nous répondre à la crise actuelle où 1 espèce sur 
 8 est menacée d’extinction à brève échéance ? Qu'en pense le Créat
 eur ?\n\nLe conférencier\, Joël WHITE\, est enseignant-chercheur en éco
 logie à l'Université de Toulouse\, spécialisé dans l'étude du microbi
 ote intestinal des oiseaux. Passionné d'ornithologie et de nature depuis 
 tout petit\, Joël est marié\, père de 3 enfants\, engagé dans son égl
 ise et membre du conseil d'administration d'A Rocha France depuis plus de 
 15 ans.\n\nhttps://www.chapelledefuveau.fr/eglise-verte\n\nLe samedi 18 oc
 tobre 2025\n\n16h30 - Accueil et gouter\n17h - Atelier interactif « Et si
  on parlait fringues ? »\nComment nos modes de consommation impactent la 
 création : l'exemple de l'industrie du textile.\n18h30 - Apéro dinatoire
 . Faire connaissance avec le conférencier.\n\n20h - Conférence de Joël 
 WHITE\, enseignant-chercheur en écologie à l’Université de Toulouse :
 \n\n« Le déclin de la biodiversité\, so what ? » Chants de la Chorale 
 Harmonie avant la conférence. Une collation suivra.\n\nLe dimanche 19 oct
 obre 2025\n\n9h30 - Classe biblique sur la création\n10h30 - Célébratio
 n thème création\n12h - Repas en commun végétarien\n\n14h - Conférenc
 e de Joël WHITE\, enseignant-chercheur en écologie à l’Université de
  Toulouse :\n\n« Le déclin de la biodiversité\, so what ? » Chants de 
 la Chorale Harmonie avant la conférence. Questions/réponses à la fin.
ATTACH;FMTTYPE=image/jpeg:https://www.egliseverte.org/wp-content/uploads/2
 025/09/Programme-WE-EV-2025_page-0001.jpg
LOCATION:Chapelle de Fuveau (13)\, 24 avenue de Fuveau\, Marseille\, France
 \, 13013\, Provence-Alpes-Côte d'Azur\, France
GEO:43.32872;5.420434
X-APPLE-STRUCTURED-LOCATION;VALUE=URI;X-ADDRESS=24 avenue de Fuveau\, Marse
 ille\, France\, 13013\, Provence-Alpes-Côte d'Azur\, France;X-APPLE-RADIU
 S=100;X-TITLE=Chapelle de Fuveau (13):geo:43.32872,5.420434
END:VEVENT
BEGIN:VTIMEZONE
TZID:Europe/Paris
X-LIC-LOCATION:Europe/Paris
BEGIN:DAYLIGHT
DTSTART:20250330T030000
TZOFFSETFROM:+0100
TZOFFSETTO:+0200
TZNAME:CEST
END:DAYLIGHT
END:VTIMEZONE
END:VCALENDAR