BEGIN:VCALENDAR
VERSION:2.0
PRODID:-//wp-events-plugin.com//7.2.3.1//EN
TZID:Europe/Paris
X-WR-TIMEZONE:Europe/Paris
BEGIN:VEVENT
UID:215@egliseverte.org
DTSTART;TZID=Europe/Paris:20220915T183000
DTEND;TZID=Europe/Paris:20220915T203000
DTSTAMP:20231120T160618Z
URL:https://www.egliseverte.org/agenda/conference-les-dechets-en-milieu-aq
 uatique-13/
SUMMARY:Conférence - Les déchets en milieu aquatique (13)
DESCRIPTION:Par Isabelle POITOU\, Directrice association Mer Terre\nUn apé
 ritif sera servi après la conférence.
ATTACH;FMTTYPE=image/jpeg:https://www.egliseverte.org/wp-content/uploads/2
 022/09/220915-INVITATION-CONFERENCE_page-0001.jpg
LOCATION:Paroisse Notre-Dame des Neiges\, 16 allée Albéniz\, Marseille\, 
 France
GEO:43.238565;5.390724
X-APPLE-STRUCTURED-LOCATION;VALUE=URI;X-ADDRESS=16 allée Albéniz\, Marsei
 lle\, France;X-APPLE-RADIUS=100;X-TITLE=Paroisse Notre-Dame des Neiges:geo
 :43.238565,5.390724
END:VEVENT
BEGIN:VTIMEZONE
TZID:Europe/Paris
X-LIC-LOCATION:Europe/Paris
BEGIN:DAYLIGHT
DTSTART:20220327T030000
TZOFFSETFROM:+0100
TZOFFSETTO:+0200
TZNAME:CEST
END:DAYLIGHT
END:VTIMEZONE
END:VCALENDAR