BEGIN:VCALENDAR
VERSION:2.0
PRODID:-//wp-events-plugin.com//7.2.3.1//EN
TZID:Europe/Paris
X-WR-TIMEZONE:Europe/Paris
BEGIN:VEVENT
UID:380@egliseverte.org
DTSTART;TZID=Europe/Paris:20240916T203000
DTEND;TZID=Europe/Paris:20240916T220000
DTSTAMP:20240909T103812Z
URL:https://www.egliseverte.org/agenda/conference-neuf-ans-apres-laudato-s
 i/
SUMMARY:Conférence "Après Laudato Si' : état des lieux\, urgente convers
 ion et raisons d’espérer" (92).
DESCRIPTION:Conférence « Près de 10 ans après Laudato Si' : état des l
 ieux\, urgente conversion et raisons d’espérer. »\n\navec François Ba
 udin\, diacre\, délégué diocésain à l’écologie intégrale du dioc
 èse de Nanterre.
ATTACH;FMTTYPE=image/jpeg:https://www.egliseverte.org/wp-content/uploads/2
 024/09/TpsCReation2024_Levallois_Conf_F_Baudin.jpg
LOCATION:Foyer Jean-Paul II\, 4 place d’Estienne d’Orves\, Levallois-Pe
 rret\, 92\, 92300\, France
X-APPLE-STRUCTURED-LOCATION;VALUE=URI;X-ADDRESS=4 place d’Estienne d’Or
 ves\, Levallois-Perret\, 92\, 92300\, France;X-APPLE-RADIUS=100;X-TITLE=Fo
 yer Jean-Paul II:geo:0,0
END:VEVENT
BEGIN:VTIMEZONE
TZID:Europe/Paris
X-LIC-LOCATION:Europe/Paris
BEGIN:DAYLIGHT
DTSTART:20240331T030000
TZOFFSETFROM:+0100
TZOFFSETTO:+0200
TZNAME:CEST
END:DAYLIGHT
END:VTIMEZONE
END:VCALENDAR